BEGIN:VCALENDAR
VERSION:2.0
PRODID:-//ChamberMaster//Event Calendar 2.0//EN
METHOD:PUBLISH
X-PUBLISHED-TTL:P3D
REFRESH-INTERVAL:P3D
CALSCALE:GREGORIAN
BEGIN:VEVENT
DTSTART:20180513T140000Z
DTEND:20180513T183000Z
X-MICROSOFT-CDO-ALLDAYEVENT:FALSE
SUMMARY:Mother’s Day Buffet Served at The Pier Restaurant at Oakwood Resort
DESCRIPTION:Mother's Day Buffet Served at The Pier Restaurant at Oakwood Resort\n\nSyracuse\, IN - April 27\, 2018 - Trip Advisor  Certificate of Excellence winner\, Oakwood Resort announces their annual Mother's Day Brunch at The Pier Restaurant.  This Mother's Day\, celebrate the family matriarch with an unforgettable buffet served Sunday\, May 13\, 2018\, from 10:00am until 2:30pm.  The talented and professional culinary team at The Pier Restaurant will be delighted to provide you and your family members' a bountiful brunch buffet.  \n\nAn extensive selection that includes a wide variety of delicious menu items will be featured for the Mother's Day Brunch.  Favorites include a build your own omelet and pancake stations\, smoked salmon with accompaniments\, Danish bleu macaroni and cheese with pancetta\, assorted sushi rolls\, a fondue fountain with assorted breads and vegetables and special favorites created just for the children.  Priced at $28 for adults\, $14 for children aged 5 to 12 and free for children under 5\, guests are strongly encouraged to secure their reservations early by calling (574) 457-8700.  \n\n"Our Mother's Day Brunch is a fun and interactive occasion for us to unite families and our community with fresh locally sourced foods." said Marketing & Sales Manager\, Jill Garris.  \n\nOakwood Resort is beautifully positioned in Syracuse on the edge of Lake Wawasee\, Indiana's largest natural lake.  Offering 77 spacious guest rooms\, 35\,000 square feet of meeting space\, a waterfront restaurant\, full service salon and spa and abundant outdoor recreational options\, the 27-acre resort has become a premier northern Indiana destination for corporate clients\, families and leisure travelers.    \n\nFor additional information regarding Oakwood Resort or the Mother's Day Brunch\, please contact Oakwood Resort at 574-457-7100 or via the website at OakwoodResort.com.\n\nOakwood Resort\n\n702 East Lake View Road\n\nSyracuse\, IN  46567                                                                                                                 \n\nOakwoodResort.com\n\nPhone - 574.457.7100\n\nFax - 574.337-1187\n\nInfo@OakwoodResort.com
X-ALT-DESC;FMTTYPE=text/html:<strong><span style="color:#303030\;"><span style="font-family:times new roman\,serif\;"><span style="font-size:14.0pt\;">Mother&rsquo\;s Day Buffet Served at The Pier Restaurant at Oakwood Resort</span></span></span></strong><br />\n<em><span style="font-family:times new roman\,serif\;"><span style="font-size:12.0pt\;">Syracuse\, IN - April 27\, 2018</span></span></em><span style="font-family:times new roman\,serif\;"><span style="font-size:12.0pt\;"> - Trip Advisor&reg\; Certificate of Excellence winner\, Oakwood Resort announces their annual Mother&rsquo\;s Day Brunch at The Pier Restaurant.&nbsp\; This Mother&rsquo\;s Day\, celebrate the family matriarch with an unforgettable buffet served Sunday\, May 13\, 2018\, from 10:00am until 2:30pm.&nbsp\; The talented and professional culinary team at The Pier Restaurant will be delighted to provide you and your family members&rsquo\; a bountiful brunch buffet.&nbsp\; </span></span><br />\n<span style="font-family:times new roman\,serif\;"><span style="font-size:12.0pt\;">An extensive selection that includes a wide variety of delicious menu items will be featured for the Mother&rsquo\;s Day Brunch.&nbsp\; Favorites include a build your own omelet and pancake stations\, smoked salmon with accompaniments\, Danish bleu macaroni and cheese with pancetta\, assorted sushi rolls\, a fondue fountain with assorted breads and vegetables and special favorites created just for the children.&nbsp\; Priced at $28 for adults\, $14 for children aged 5 to 12 and free for children under 5\, guests are strongly encouraged to secure their reservations early by calling (574) 457-8700.&nbsp\; </span></span><br />\n<span style="font-family:times new roman\,serif\;"><span style="font-size:12.0pt\;">&ldquo\;Our Mother&rsquo\;s Day Brunch is a fun and interactive occasion for us to unite families and our community with fresh locally sourced foods.<span style="background:white\;">&rdquo\; said Marketing &amp\; Sales Manager\, Jill Garris.&nbsp\; </span></span></span><br />\n<span style="font-family:times new roman\,serif\;"><span style="font-size:12.0pt\;">Oakwood Resort is beautifully positioned in Syracuse on the edge of Lake Wawasee\, Indiana&rsquo\;s largest natural lake.&nbsp\; Offering 77 spacious guest rooms\, 35\,000 square feet of meeting space\, a waterfront restaurant\, full service salon and spa and abundant outdoor recreational options\, the 27-acre resort has become a premier northern Indiana destination for corporate clients\, families and leisure travelers.&nbsp\;&nbsp\;&nbsp\; </span></span><br />\n<span style="font-family:times new roman\,serif\;"><span style="font-size:12.0pt\;">For additional information regarding Oakwood Resort or the Mother&rsquo\;s Day Brunch\, please contact Oakwood Resort at 574-457-7100 or via the website at OakwoodResort.com.</span></span><br />\n<strong><span style="font-family:times new roman\,serif\;"><span style="font-size:10.5pt\;">Oakwood Resort</span></span></strong><br />\n<span style="font-family:times new roman\,serif\;"><span style="font-size:10.5pt\;">702 East Lake View Road<br />\nSyracuse\, IN&nbsp\; 46567&nbsp\;&nbsp\;&nbsp\;&nbsp\;&nbsp\;&nbsp\;&nbsp\;&nbsp\;&nbsp\;&nbsp\;&nbsp\;&nbsp\;&nbsp\;&nbsp\;&nbsp\;&nbsp\;&nbsp\;&nbsp\; &nbsp\;&nbsp\;&nbsp\;&nbsp\;&nbsp\;&nbsp\;&nbsp\;&nbsp\;&nbsp\;&nbsp\;&nbsp\;&nbsp\;&nbsp\;&nbsp\;&nbsp\;&nbsp\;&nbsp\;&nbsp\;&nbsp\;&nbsp\;&nbsp\;&nbsp\;&nbsp\;&nbsp\;&nbsp\;&nbsp\;&nbsp\;&nbsp\;&nbsp\;&nbsp\;&nbsp\;&nbsp\;&nbsp\;&nbsp\;&nbsp\;&nbsp\;&nbsp\;&nbsp\;&nbsp\;&nbsp\;&nbsp\;&nbsp\;&nbsp\;&nbsp\;&nbsp\;&nbsp\;&nbsp\;&nbsp\;&nbsp\;&nbsp\;&nbsp\;&nbsp\;&nbsp\;&nbsp\;&nbsp\;&nbsp\;&nbsp\;&nbsp\;&nbsp\;&nbsp\;&nbsp\;&nbsp\;&nbsp\;&nbsp\;&nbsp\;&nbsp\;&nbsp\;&nbsp\;&nbsp\;&nbsp\;&nbsp\;&nbsp\;&nbsp\;&nbsp\;&nbsp\;&nbsp\;&nbsp\;&nbsp\;&nbsp\;&nbsp\;&nbsp\;&nbsp\;&nbsp\;&nbsp\;&nbsp\;&nbsp\;&nbsp\;&nbsp\;&nbsp\;&nbsp\;&nbsp\;&nbsp\;&nbsp\;&nbsp\;<br />\nOakwoodResort.com<br />\nPhone - 574.457.7100<br />\nFax - 574.337-1187<br />\n<a href="mailto:Info@OakwoodResort.com">Info@OakwoodResort.com</a></span></span><br />\n&nbsp\;
LOCATION:Oakwood Resort 702 East Lake View Road Syracuse\, IN 46567
UID:e.689.17807
SEQUENCE:3
DTSTAMP:20260424T134824Z
URL:https://business.goshen.org/events/details/mother-s-day-buffet-served-at-the-pier-restaurant-at-oakwood-resort-17807
END:VEVENT

END:VCALENDAR
