BEGIN:VCALENDAR
VERSION:2.0
PRODID:-//ChamberMaster//Event Calendar 2.0//EN
METHOD:PUBLISH
X-PUBLISHED-TTL:P3D
REFRESH-INTERVAL:P3D
CALSCALE:GREGORIAN
BEGIN:VEVENT
DTSTART:20190213T183000Z
DTEND:20190213T200000Z
X-MICROSOFT-CDO-ALLDAYEVENT:FALSE
SUMMARY:Midwinter Lecture: Rachel Shenk "Living La Bonne Vie"
DESCRIPTION:La Bonne Vie (The Good Life) is the name of a column written by Rachel Shenk. Rachel was born and raised in Belgium\, then came to Goshen where she started Rachel's Bread\, a European inspired artisan bakery. After thirty years as a baker\, she is now a cheesemonger at her cheese shop\, The Wedge. Her column about food\, travel and the good life has appeared in The Goshen News for over ten years. She will share vignettes of her life and philosophy.
X-ALT-DESC;FMTTYPE=text/html:La Bonne Vie (The Good Life) is the name of a column written by Rachel Shenk. Rachel was born and raised in Belgium\, then came to Goshen where she started Rachel&#39\;s Bread\, a European inspired artisan bakery. After thirty years as a baker\, she is now a cheesemonger at her cheese shop\, The Wedge. Her column about food\, travel and the good life has appeared in The Goshen News for over ten years. She will share vignettes of her life and philosophy.
LOCATION:Greencroft Goshen Community Center Jennings Auditorium
UID:e.689.18556
SEQUENCE:3
DTSTAMP:20260423T200258Z
URL:https://business.goshen.org/events/details/midwinter-lecture-rachel-shenk-living-la-bonne-vie-18556
END:VEVENT

END:VCALENDAR
