BEGIN:VCALENDAR
VERSION:2.0
PRODID:-//ChamberMaster//Event Calendar 2.0//EN
METHOD:PUBLISH
X-PUBLISHED-TTL:P3D
REFRESH-INTERVAL:P3D
CALSCALE:GREGORIAN
BEGIN:VEVENT
DTSTART:20190220T183000Z
DTEND:20190220T200000Z
X-MICROSOFT-CDO-ALLDAYEVENT:FALSE
SUMMARY:Midwinter Lecture: Kevin Deary "Miracle in the Making"
DESCRIPTION:Kevin's world began in the Irish Catholic neighborhood of Boston. Poverty was a fact of daily life. He can remember signs in the store windows that read: "Irish and Blacks Need Not Apply." His family members were part of the Mafia and they protected the local kids and the kids let them know when the police were around. After a time in the Navy and through involvement in leadership in the community Kevin learned that he had a true heart and love for walking alongside youth. Kevin has a fascinating story of how he came to serve the Boys and Girls Club of Goshen. In 2019 it will be Kevin's 25th year of Elkhart County Boys & Girls Club leadership which has almost miraculously grown to 5000 active members.
X-ALT-DESC;FMTTYPE=text/html:Kevin&#39\;s world began in the Irish Catholic neighborhood of Boston. Poverty was a fact of daily life. He can remember signs in the store windows that read: &quot\;Irish and Blacks Need Not Apply.&quot\; His family members were part of the Mafia and they protected the local kids and the kids let them know when the police were around. After a time in the Navy and through involvement in leadership in the community Kevin learned that he had a true heart and love for walking alongside youth. Kevin has a fascinating story of how he came to serve the Boys and Girls Club of Goshen. In 2019 it will be Kevin&#39\;s 25th year of Elkhart County Boys &amp\; Girls Club leadership which has almost miraculously grown to 5000 active members.
LOCATION:Greencroft Goshen Community Center Jennings Auditorium
UID:e.689.18557
SEQUENCE:3
DTSTAMP:20260423T200114Z
URL:https://business.goshen.org/events/details/midwinter-lecture-kevin-deary-miracle-in-the-making-18557
END:VEVENT

END:VCALENDAR
