BEGIN:VCALENDAR
VERSION:2.0
PRODID:-//ChamberMaster//Event Calendar 2.0//EN
METHOD:PUBLISH
X-PUBLISHED-TTL:P3D
REFRESH-INTERVAL:P3D
CALSCALE:GREGORIAN
BEGIN:VEVENT
DTSTART:20190123T183000Z
DTEND:20190123T200000Z
X-MICROSOFT-CDO-ALLDAYEVENT:FALSE
SUMMARY:Midwinter Lecture: Kare Andersen "Sweet Destination"
DESCRIPTION:The Olympia Candy Kitchen has been a sweet and beloved destination for many people for generations! Still in its original location since 1912\, The Olympia is nearly unchanged for over 106 years. Come hear Kare Anderson\, the fourth generation owner\, tell us about the history of the Olympia\, the evolution of the homemade products they serve and the many products and services they offer.
X-ALT-DESC;FMTTYPE=text/html:The Olympia Candy Kitchen has been a sweet and beloved destination for many people for generations! Still in its original location since 1912\, The Olympia is nearly unchanged for over 106 years. Come hear Kare Anderson\, the fourth generation owner\, tell us about the history of the Olympia\, the evolution of the homemade products they serve and the many products and services they offer.
LOCATION:Greencroft Goshen Community Center Jennings Auditorium
UID:e.689.18553
SEQUENCE:3
DTSTAMP:20260423T213020Z
URL:https://business.goshen.org/events/details/midwinter-lecture-kare-andersen-sweet-destination-18553
END:VEVENT

END:VCALENDAR
