BEGIN:VCALENDAR
VERSION:2.0
PRODID:-//ChamberMaster//Event Calendar 2.0//EN
METHOD:PUBLISH
X-PUBLISHED-TTL:P3D
REFRESH-INTERVAL:P3D
CALSCALE:GREGORIAN
BEGIN:VEVENT
DTSTART:20190206T183000Z
DTEND:20190206T200000Z
X-MICROSOFT-CDO-ALLDAYEVENT:FALSE
SUMMARY:Midwinter Lecture: Jim Smith "A Tale of Two Tickets: Guilty. . . and Sentenced!"
DESCRIPTION:In early 2004\, my home state denied the renewal of my Driver's License. Another state where I had lived eight years earlier had assigned two parking tickets to my account. For the next 40 days\, with driving privileges revoked and work 30 miles away\, I got just a taste of how it feels to be "guilty" as I scrambled to establish my innocence. You gotta hear this one! Jim retired from Zimmer in 2004\, has served on the board of Pumpkinvine Nature Trail\, chaired the New Perspectives on Faith committee\, and had many other involvements in our community.
X-ALT-DESC;FMTTYPE=text/html:In early 2004\, my home state denied the renewal of my Driver&#39\;s License. Another state where I had lived eight years earlier had assigned two parking tickets to my account. For the next 40 days\, with driving privileges revoked and work 30 miles away\, I got just a taste of how it feels to be &quot\;guilty&quot\; as I scrambled to establish my innocence. You gotta hear this one! Jim retired from Zimmer in 2004\, has served on the board of Pumpkinvine Nature Trail\, chaired the New Perspectives on Faith committee\, and had many other involvements in our community.
LOCATION:Greencroft Goshen Community Center Jennings Auditorium
UID:e.689.18555
SEQUENCE:3
DTSTAMP:20260423T213135Z
URL:https://business.goshen.org/events/details/midwinter-lecture-jim-smith-a-tale-of-two-tickets-guilty-and-sentenced-18555
END:VEVENT

END:VCALENDAR
