BEGIN:VCALENDAR
VERSION:2.0
PRODID:-//ChamberMaster//Event Calendar 2.0//EN
METHOD:PUBLISH
X-PUBLISHED-TTL:P3D
REFRESH-INTERVAL:P3D
CALSCALE:GREGORIAN
BEGIN:VEVENT
DTSTART:20190130T183000Z
DTEND:20190130T200000Z
X-MICROSOFT-CDO-ALLDAYEVENT:FALSE
SUMMARY:Midwinter Lecture: Gene Yoder "Greencroft\, The Dream\, The Vision\, The Purpose\, The Program"
DESCRIPTION:We will take a closer look at the early years\, the dream and vision of Greencroft by Eighth Street Mennonite Church and their pastor Robert Hartzler. Gene will tell the story how the early leaders became the founders of Greencroft Goshen. With pictures and PowerPoint Gene will show us how the Dan Schrock Farm and the Dierdorff Farm were transformed into the beautiful Greencroft Goshen Campus which is home to nearly 1\,100 senior citizens. Gene worked for Greencroft from March 1974 to July 2004. The last 23 years as CEO and President of Greencroft Inc.
X-ALT-DESC;FMTTYPE=text/html:We will take a closer look at the early years\, the dream and vision of Greencroft by Eighth Street Mennonite Church and their pastor Robert Hartzler. Gene will tell the story how the early leaders became the founders of Greencroft Goshen. With pictures and PowerPoint Gene will show us how the Dan Schrock Farm and the Dierdorff Farm were transformed into the beautiful Greencroft Goshen Campus which is home to nearly 1\,100 senior citizens. Gene worked for Greencroft from March 1974 to July 2004. The last 23 years as CEO and President of Greencroft Inc.
LOCATION:Greencroft Goshen Community Center Jennings Auditorium
UID:e.689.18554
SEQUENCE:3
DTSTAMP:20260423T230513Z
URL:https://business.goshen.org/events/details/midwinter-lecture-gene-yoder-greencroft-the-dream-the-vision-the-purpose-the-program-18554
END:VEVENT

END:VCALENDAR
