BEGIN:VCALENDAR
VERSION:2.0
PRODID:-//ChamberMaster//Event Calendar 2.0//EN
METHOD:PUBLISH
X-PUBLISHED-TTL:P3D
REFRESH-INTERVAL:P3D
CALSCALE:GREGORIAN
BEGIN:VEVENT
DTSTART:20161119T150000Z
DTEND:20161119T210000Z
X-MICROSOFT-CDO-ALLDAYEVENT:FALSE
SUMMARY:Michiana Scale Model Show
DESCRIPTION:Sponsored by DJ Fast Eddie - Registration 10a - noon\, Entry $5 1st model\, $2 for each additional model. Awards and Giveaways\, Drawings and Door Prizes! Contact Ed at 260-273-1447.
X-ALT-DESC;FMTTYPE=text/html:Sponsored by DJ Fast Eddie - Registration 10a - noon\, Entry $5 1st model\, $2 for each additional model. Awards and Giveaways\, Drawings and Door Prizes! Contact Ed at 260-273-1447.
LOCATION:Concord Mall 3701 S. Main Street Elkhart\, IN 46517 574-875-6502
UID:e.689.16282
SEQUENCE:3
DTSTAMP:20260425T190137Z
URL:https://business.goshen.org/events/details/michiana-scale-model-show-16282
END:VEVENT

END:VCALENDAR
