BEGIN:VCALENDAR
VERSION:2.0
PRODID:-//ChamberMaster//Event Calendar 2.0//EN
METHOD:PUBLISH
X-PUBLISHED-TTL:P3D
REFRESH-INTERVAL:P3D
CALSCALE:GREGORIAN
BEGIN:VEVENT
DTSTART:20171118T150000Z
DTEND:20171118T220000Z
X-MICROSOFT-CDO-ALLDAYEVENT:FALSE
SUMMARY:Michiana Scale Model & Picture Car Show
DESCRIPTION:Michiana Scale Model Show & Picture Car Show sponsored by DJ Fast Eddie - Registration 10a - 1p\, Awards at 4p. Entry $5 1st model\, $2 for each additional model\, $10 picture entry.  Dash plaques and Giveaways\, Drawings and Door Prizes! Contact Ed at 260-273-1447.
X-ALT-DESC;FMTTYPE=text/html:Michiana Scale Model Show &amp\; Picture Car Show sponsored by DJ Fast Eddie - Registration 10a - 1p\, Awards at 4p. Entry $5 1st model\, $2 for each additional model\, $10 picture entry.&nbsp\; Dash plaques and Giveaways\, Drawings and Door Prizes! Contact Ed at 260-273-1447.
LOCATION:Concord Mall 3701 S. Main Street Elkhart\, IN 46517 574-875-6502
UID:e.689.17442
SEQUENCE:3
DTSTAMP:20260424T231427Z
URL:https://business.goshen.org/events/details/michiana-scale-model-picture-car-show-17442
END:VEVENT

END:VCALENDAR
