BEGIN:VCALENDAR
VERSION:2.0
PRODID:-//ChamberMaster//Event Calendar 2.0//EN
METHOD:PUBLISH
X-PUBLISHED-TTL:P3D
REFRESH-INTERVAL:P3D
CALSCALE:GREGORIAN
BEGIN:VEVENT
DTSTART;VALUE=DATE:20160813
DTEND;VALUE=DATE:20160814
TRANSP:TRANSPARENT
X-MICROSOFT-CDO-ALLDAYEVENT:TRUE
SUMMARY:Michiana Mustangs Car Show
DESCRIPTION:Mustangs and more will be participating in this grand show.  The show will be located at the main entrance parking lot.
X-ALT-DESC;FMTTYPE=text/html:Mustangs and more will be participating in this grand show.&nbsp\; The show will be located at the main entrance parking lot.
LOCATION:3701 S. Main Street Elkhart\, IN 4517 574-875-6502
UID:e.689.16156
SEQUENCE:3
DTSTAMP:20260426T005819Z
URL:https://business.goshen.org/events/details/michiana-mustangs-car-show-08-13-2016-16156
END:VEVENT

END:VCALENDAR
