BEGIN:VCALENDAR
VERSION:2.0
PRODID:-//ChamberMaster//Event Calendar 2.0//EN
METHOD:PUBLISH
X-PUBLISHED-TTL:P3D
REFRESH-INTERVAL:P3D
CALSCALE:GREGORIAN
BEGIN:VEVENT
DTSTART:20170805T120000Z
DTEND:20170805T200000Z
X-MICROSOFT-CDO-ALLDAYEVENT:FALSE
SUMMARY:Michiana Mustang Car Show
DESCRIPTION:Mustangs and more will be participating in this grand show.  The show will be located at the main entrance parking lot.
X-ALT-DESC;FMTTYPE=text/html:Mustangs and more will be participating in this grand show.&nbsp\; The show will be located at the main entrance parking lot.
LOCATION:Concord Mall 3701 S. Main Street Elkhart\, IN 46517 574-875-6502
UID:e.689.16862
SEQUENCE:3
DTSTAMP:20260425T040633Z
URL:https://business.goshen.org/events/details/michiana-mustang-car-show-16862
END:VEVENT

END:VCALENDAR
