BEGIN:VCALENDAR
VERSION:2.0
PRODID:-//ChamberMaster//Event Calendar 2.0//EN
METHOD:PUBLISH
X-PUBLISHED-TTL:P3D
REFRESH-INTERVAL:P3D
CALSCALE:GREGORIAN
BEGIN:VEVENT
DTSTART:20170304T180000Z
DTEND:20170304T204500Z
X-MICROSOFT-CDO-ALLDAYEVENT:FALSE
SUMMARY:Michiana Master Gardeners' Spring Celebration-Public Seminar
DESCRIPTION:Michiana Master Gardeners' Public Seminar "What are GMO's" To be presented by Dr. Peter Goldsbrough a botany professor from Purdue University and Andrew Robinson an agronomist with Mycogen Seeds. They will explain what is a GMO\, how are they produced and used and provide a balanced perspective on the issues that surround the use of GMO's. MMGA holds its annual seminar in cooperation with Purdue University Extension-Elkhart County\, a non-profit organization using it's fund for scholarships\, community gardens\, community outreach and education. Purdue University is an affirmative action\, equal access/equal opportunity institution.
X-ALT-DESC;FMTTYPE=text/html:Michiana Master Gardeners&#39\; Public Seminar &quot\;What are GMO&#39\;s&quot\; To be presented by Dr. Peter Goldsbrough a botany professor from Purdue University and Andrew Robinson an agronomist with Mycogen Seeds. They will explain what is a GMO\, how are they produced and used and provide a balanced perspective on the issues that surround the use of GMO&#39\;s. MMGA holds its annual seminar in cooperation with Purdue University Extension-Elkhart County\, a non-profit organization using it&#39\;s fund for scholarships\, community gardens\, community outreach and education. Purdue University is an affirmative action\, equal access/equal opportunity institution.
LOCATION:Greencroft Senior Center 1721 Greencroft Blvd. Goshen\, IN
UID:e.689.16674
SEQUENCE:3
DTSTAMP:20260425T122644Z
URL:https://business.goshen.org/events/details/michiana-master-gardeners-spring-celebration-public-seminar-16674
END:VEVENT

END:VCALENDAR
