BEGIN:VCALENDAR
VERSION:2.0
PRODID:-//ChamberMaster//Event Calendar 2.0//EN
METHOD:PUBLISH
X-PUBLISHED-TTL:P3D
REFRESH-INTERVAL:P3D
CALSCALE:GREGORIAN
BEGIN:VEVENT
DTSTART:20170510T140000Z
DTEND:20170510T190000Z
X-MICROSOFT-CDO-ALLDAYEVENT:FALSE
SUMMARY:Michiana Career Fair - Meet Your Future!
DESCRIPTION:Career Fair presented by Bethel College. Visit some of the area's leading employers. Additional sponsors include Elwood Staff\, Federated Media and many more. Contact Trish Wicks at 574-258-5483 x227 for more information. Dress for success and bring copies of your resume.
X-ALT-DESC;FMTTYPE=text/html:Career Fair presented by Bethel College. Visit some of the area&#39\;s leading employers. Additional sponsors include Elwood Staff\, Federated Media and many more. Contact Trish Wicks at 574-258-5483 x227 for more information. Dress for success and bring copies of your resume.
LOCATION:Concord Mall 3701 S. Main Street Elkhart\, IN 46517 574-875-6502
UID:e.689.16766
SEQUENCE:3
DTSTAMP:20260425T104428Z
URL:https://business.goshen.org/events/details/michiana-career-fair-meet-your-future-16766
END:VEVENT

END:VCALENDAR
