BEGIN:VCALENDAR
VERSION:2.0
PRODID:-//ChamberMaster//Event Calendar 2.0//EN
METHOD:PUBLISH
X-PUBLISHED-TTL:P3D
REFRESH-INTERVAL:P3D
CALSCALE:GREGORIAN
BEGIN:VEVENT
DTSTART:20220115T173000Z
DTEND:20220115T190000Z
X-MICROSOFT-CDO-ALLDAYEVENT:FALSE
SUMMARY:Metalwork Earring Workshop
DESCRIPTION:Join us for a Metalwork Earring workshop at The Imagination Spot. Participants will get to try a few basic metalworking processes and take home two pairs of earrings! One will be a pair of hammered brass hoops and the other will be hand-stamped copper with an accent bead. They will experiment with hammering\, disc cutting\, metal stamping\, and using jewelry findings and finishing tools.\n\n \n\nWorkshop Suited for age 15 and up.\n\n\n\nWorkshop Fee: $65 per person\n\nInstructor: Caitlin Lanctot of "She Dreams In Colors"\n\n \n\nTo register for this workshop\, head over to https://www.theimaginationspot.com/.../metalwork-earring...\n\nEmail us at shopimaginationspot@gmail.com for any questions.\n\n \n\nPlease note: Masks will be required for all participants.
X-ALT-DESC;FMTTYPE=text/html:<div>Join us for a Metalwork Earring workshop at The Imagination Spot. Participants will get to try a few basic metalworking processes and take home two pairs of earrings! One will be a pair of hammered brass hoops and the other will be hand-stamped copper with an accent bead. They will experiment with hammering\, disc cutting\, metal stamping\, and using jewelry findings and finishing tools.<br />\n&nbsp\;</div>\n\n<div>Workshop Suited for age 15 and up.<br />\n<br />\nWorkshop Fee: $65 per person<br />\nInstructor: Caitlin Lanctot of &quot\;She Dreams In Colors&quot\;<br />\n&nbsp\;</div>\n\n<div>To register for this workshop\, head over to <a class="oajrlxb2 g5ia77u1 qu0x051f esr5mh6w e9989ue4 r7d6kgcz rq0escxv nhd2j8a9 nc684nl6 p7hjln8o kvgmc6g5 cxmmr5t8 oygrvhab hcukyx3x jb3vyjys rz4wbd8a qt6c0cv9 a8nywdso i1ao9s8h esuyzwwr f1sip0of lzcic4wl gpro0wi8 py34i1dx" href="https://www.theimaginationspot.com/collections/workshops/products/metalwork-earring-workshop?fbclid=IwAR2Hig42_BlXeQ6W-2pR_TKZyeOyz-qPB1LNEFG_DvvLZYPmmgeWv9eIpWA" rel="nofollow noopener" tabindex="0" target="_blank">https://www.theimaginationspot.com/.../metalwork-earring...</a></div>\n\n<div>Email us at shopimaginationspot@gmail.com for any questions.<br />\n&nbsp\;</div>\n\n<div>Please note: Masks will be required for all participants.</div>\n
LOCATION:The Imagination Spot\, 111 E Washington St. Goshen\, IN 46528
UID:e.689.23507
SEQUENCE:3
DTSTAMP:20260421T200338Z
URL:https://business.goshen.org/events/details/metalwork-earring-workshop-23507
END:VEVENT

END:VCALENDAR
