BEGIN:VCALENDAR
VERSION:2.0
PRODID:-//ChamberMaster//Event Calendar 2.0//EN
METHOD:PUBLISH
X-PUBLISHED-TTL:P3D
REFRESH-INTERVAL:P3D
CALSCALE:GREGORIAN
BEGIN:VEVENT
DTSTART:20161102T230000Z
DTEND:20161103T010000Z
X-MICROSOFT-CDO-ALLDAYEVENT:FALSE
SUMMARY:Men's "Over 40" Open Gym Basketball
DESCRIPTION:Enjoy some Wednesday evening pick-up games during our Men's 40 and Older Open Gym. Individuals play each Wednesday\, 7 9 pm\, November 2 to March 29 in a Goshen Community Schools gymnasium\, to be announced. Pre-registration is required and is currently being accepted at the Goshen Parks & Recreation Office. Cost is $40. Contact Frank\, 534-6723\, with any questions.
X-ALT-DESC;FMTTYPE=text/html:Enjoy some Wednesday evening pick-up games during our Men&rsquo\;s 40 and Older Open Gym. Individuals play each Wednesday\, 7&ndash\;9 pm\, November 2 to March 29 in a Goshen Community Schools gymnasium\, to be announced. Pre-registration is required and is currently being accepted at the Goshen Parks &amp\; Recreation Office. Cost is $40. Contact Frank\, 534-6723\, with any questions.
LOCATION:A Goshen Community Schools gymnasium\, to be announced.
UID:e.689.16187
SEQUENCE:3
DTSTAMP:20260425T190320Z
URL:https://business.goshen.org/events/details/men-s-over-40-open-gym-basketball-16187
END:VEVENT

END:VCALENDAR
