BEGIN:VCALENDAR
VERSION:2.0
PRODID:-//ChamberMaster//Event Calendar 2.0//EN
METHOD:PUBLISH
X-PUBLISHED-TTL:P3D
REFRESH-INTERVAL:P3D
CALSCALE:GREGORIAN
BEGIN:VEVENT
DTSTART:20161102T220000Z
DTEND:20161103T010000Z
X-MICROSOFT-CDO-ALLDAYEVENT:FALSE
SUMMARY:Men's Basketball League
DESCRIPTION:This league plays on Wednesday evenings\, November 2 through January 25 (no games when gymnasiums are closed for school holidays and/or special events). Teams are guaranteed a minimum of nine games and an end of season tournament. Games are played at Goshen High School. Nine regular-season games will be played at Goshen High School\, along with a post-season tournament. Pre-registration is currently being accepted at the Goshen Parks & Recreation Office through October 21 or until the league is full. Cost is $580 per team. A mandatory team manager meeting will be scheduled upon the close of registration. Contact Frank\, 534-6723\, with any questions.
X-ALT-DESC;FMTTYPE=text/html:This league plays on Wednesday evenings\, November 2 through January 25 (no games when gymnasiums are closed for school holidays and/or special events). Teams are guaranteed a minimum of nine games and an end of season tournament. Games are played at Goshen High School. Nine regular-season games will be played at Goshen High School\, along with a post-season tournament. Pre-registration is currently being accepted at the Goshen Parks &amp\; Recreation Office through October 21 or until the league is full. Cost is $580 per team. A mandatory team manager meeting will be scheduled upon the close of registration. Contact Frank\, 534-6723\, with any questions.
LOCATION:Goshen High School
UID:e.689.16186
SEQUENCE:3
DTSTAMP:20260425T190315Z
URL:https://business.goshen.org/events/details/men-s-basketball-league-16186
END:VEVENT

END:VCALENDAR
