BEGIN:VCALENDAR
VERSION:2.0
PRODID:-//ChamberMaster//Event Calendar 2.0//EN
METHOD:PUBLISH
X-PUBLISHED-TTL:P3D
REFRESH-INTERVAL:P3D
CALSCALE:GREGORIAN
BEGIN:VEVENT
DTSTART:20181103T140000Z
DTEND:20181103T200000Z
X-MICROSOFT-CDO-ALLDAYEVENT:FALSE
SUMMARY:MEGA Heart | Be a heart hero.
DESCRIPTION:A day full of heart! Explore\, play and learn about your heart at this FREE indoor event for the whole family\, brought to you by the Goshen Heart & Vascular Center.   Step inside a colossal human heart and learn what makes you tick   Explore "touch and see" innovation stations   Observe heart tests in progress   Pick up and examine real heart devices   Enjoy fun and interactive activities at our Kids Zone   Talk with our doctors\, nurses and other experts
X-ALT-DESC;FMTTYPE=text/html:A day full of heart! Explore\, play and learn about your heart at this FREE indoor event for the whole family\, brought to you by the Goshen Heart &amp\; Vascular Center. &bull\; Step inside a colossal human heart and learn what makes you tick &bull\; Explore &ldquo\;touch and see&rdquo\; innovation stations &bull\; Observe heart tests in progress &bull\; Pick up and examine real heart devices &bull\; Enjoy fun and interactive activities at our Kids Zone &bull\; Talk with our doctors\, nurses and other experts
LOCATION:Elkhart County 4-H Fairgrounds Elkhart County Community Center Building 17746 C.R. 34 Goshen\, IN 46528 Gate 2 for parking
UID:e.689.18251
SEQUENCE:3
DTSTAMP:20260424T005842Z
URL:https://business.goshen.org/events/details/mega-heart-be-a-heart-hero-18251
END:VEVENT

END:VCALENDAR
