BEGIN:VCALENDAR
VERSION:2.0
PRODID:-//ChamberMaster//Event Calendar 2.0//EN
METHOD:PUBLISH
X-PUBLISHED-TTL:P3D
REFRESH-INTERVAL:P3D
CALSCALE:GREGORIAN
BEGIN:VEVENT
DTSTART:20170420T213000Z
DTEND:20170420T233000Z
X-MICROSOFT-CDO-ALLDAYEVENT:FALSE
SUMMARY:Meet Me in the 574 Regional YP Networking Event
DESCRIPTION:Join young professionals from all over the 574 region to mingle at the Science Networking Mix-ology-Mixer at the ETHOS Science Center in Elkhart. In the spirit of the Regional Cities Initiative\, YPN South Bend\, Young Leaders of Notre Dame\, the Greater Elkhart and Goshen Young Professionals\, and YPN of Marshall County are hosting joint after hours mixers to encourage YPs to get to know their neighbors. All YPs from our surrounding counties are welcome. \n\n \n\nAppetizers\, specialty cocktails and a cash bar will be provided\, including one free drink ticket per person! There will be fun interactive hands-on science activities ranging from the planetarium\, animals\, robots and more. This will be a night for the "big kids" to have fun just like all the other kids! You will not want to miss this spectacular gathering of our area's best young talent!\n\n\n\nhttps://www.elkhart.org/events/event-detail.cfm?id=403&m=2017-04
X-ALT-DESC;FMTTYPE=text/html:<em><span style="color:#1F497D\;">Join young professionals from all over the 574 region to mingle at the Science Networking Mix-ology-Mixer at the ETHOS Science Center in Elkhart. In the spirit of the Regional Cities Initiative\, YPN South Bend\, Young Leaders of Notre Dame\, the Greater Elkhart and Goshen Young Professionals\, and YPN of Marshall County are hosting joint after hours mixers to encourage YPs to get to know their neighbors. All YPs from our surrounding counties are welcome. </span></em><br />\n&nbsp\;<br />\n<em><span style="color:#1F497D\;">Appetizers\, specialty cocktails and a cash bar will be provided\, including one free drink ticket per person! There will be fun interactive hands-on science activities ranging from the planetarium\, animals\, robots and more. This will be a night for the &quot\;big kids&quot\; to have fun just like all the other kids! You will not want to miss this spectacular gathering of our area&rsquo\;s best young talent!</span></em><br />\n<br />\n<span style="color:#1F497D\;"><span style="font-family:calibri\,sans-serif\;"><span style="font-size:11.0pt\;"><a href="https://www.elkhart.org/events/event-detail.cfm?id=403&amp\;m=2017-04">https://www.elkhart.org/events/event-detail.cfm?id=403&amp\;m=2017-04</a></span></span></span><br />\n&nbsp\;
LOCATION:ETHOS Science Center 2521 Industrial Pkwy Elkhart\, IN
UID:e.689.16737
SEQUENCE:3
DTSTAMP:20260425T104300Z
URL:https://business.goshen.org/events/details/meet-me-in-the-574-regional-yp-networking-event-16737
END:VEVENT

END:VCALENDAR
