BEGIN:VCALENDAR
VERSION:2.0
PRODID:-//ChamberMaster//Event Calendar 2.0//EN
METHOD:PUBLISH
X-PUBLISHED-TTL:P3D
REFRESH-INTERVAL:P3D
CALSCALE:GREGORIAN
BEGIN:VEVENT
DTSTART:20201012T223000Z
DTEND:20201012T233000Z
X-MICROSOFT-CDO-ALLDAYEVENT:FALSE
SUMMARY:Medicare Monday Webinar- Part D and how to sign up online
DESCRIPTION:Let Everence help make Medicare an easy step! We'll cover the following during this webinar: Enrollment details and deadlines\, budgeting for health care and income in retirement\, what your options are if you continue to work\, Social Security\, prescription drug coverage\, plans that supplement Medicare. We are eager to discuss any additional questions you have. You can submit questions when you register or during the webinar by using the Q&A feature or through Zoom during the webinar.
X-ALT-DESC;FMTTYPE=text/html:Let Everence help make Medicare an easy step! We&rsquo\;ll cover the following during this webinar: Enrollment details and deadlines\, budgeting for health care and income in retirement\, what your options are if you continue to work\, Social Security\, prescription drug coverage\, plans that supplement Medicare. We are eager to discuss any additional questions you have. You can submit questions when you register or during the webinar by using the Q&amp\;A feature or through Zoom during the webinar.
LOCATION:Online
UID:e.689.20984
SEQUENCE:3
DTSTAMP:20260422T090006Z
URL:https://business.goshen.org/events/details/medicare-monday-webinar-part-d-and-how-to-sign-up-online-20984
END:VEVENT

END:VCALENDAR
