BEGIN:VCALENDAR
VERSION:2.0
PRODID:-//ChamberMaster//Event Calendar 2.0//EN
METHOD:PUBLISH
X-PUBLISHED-TTL:P3D
REFRESH-INTERVAL:P3D
CALSCALE:GREGORIAN
BEGIN:VEVENT
DTSTART:20170307T210000Z
DTEND:20170307T230000Z
X-MICROSOFT-CDO-ALLDAYEVENT:FALSE
SUMMARY:Medical Assistant Information Session
DESCRIPTION:Medical Assistant Information Meeting\n\n\n\nWhat does a Medical Assistant do?\n\nWhy is the demand for Medical Assistants growing?\n\nWhat is the outlook for Medical Assistant job growth?\n\nCurriculum\n\nExternship\n\nQuestion & Answer Session
X-ALT-DESC;FMTTYPE=text/html:Medical Assistant Information Meeting<br />\n<br />\nWhat does a Medical Assistant do?<br />\nWhy is the demand for Medical Assistants growing?<br />\nWhat is the outlook for Medical Assistant job growth?<br />\nCurriculum<br />\nExternship<br />\nQuestion &amp\; Answer Session
LOCATION:Ivy Tech Community College 22531 County Road 18 Goshen\, IN 46528 Room 313
UID:e.689.16707
SEQUENCE:3
DTSTAMP:20260425T140202Z
URL:https://business.goshen.org/events/details/medical-assistant-information-session-16707
END:VEVENT

END:VCALENDAR
