BEGIN:VCALENDAR
VERSION:2.0
PRODID:-//ChamberMaster//Event Calendar 2.0//EN
METHOD:PUBLISH
X-PUBLISHED-TTL:P3D
REFRESH-INTERVAL:P3D
CALSCALE:GREGORIAN
BEGIN:VEVENT
DTSTART:20180820T220000Z
DTEND:20180820T233000Z
X-MICROSOFT-CDO-ALLDAYEVENT:FALSE
SUMMARY:Meal planning 101
DESCRIPTION:Come learn how to serve diabetic friendly meals. A registered dietitian will discuss ideas on healthy meals and carb counting. No registration is required. For more information\, call (574) 364-2746. This FREE class is for people with diabetes\, prediabetes and family members.
X-ALT-DESC;FMTTYPE=text/html:Come learn how to serve diabetic friendly meals. A registered dietitian will discuss ideas on healthy meals and carb counting. No registration is required. For more information\, call (574) 364-2746. This FREE class is for people with diabetes\, prediabetes and family members.
LOCATION:Heart & Vascular Wellness Classroom\, 2nd floor 1855 S. Main Street\, Suite C Goshen\, IN 46526
UID:e.689.17861
SEQUENCE:3
DTSTAMP:20260424T071150Z
URL:https://business.goshen.org/events/details/meal-planning-101-17861
END:VEVENT

END:VCALENDAR
