BEGIN:VCALENDAR
VERSION:2.0
PRODID:-//ChamberMaster//Event Calendar 2.0//EN
METHOD:PUBLISH
X-PUBLISHED-TTL:P3D
REFRESH-INTERVAL:P3D
CALSCALE:GREGORIAN
BEGIN:VEVENT
DTSTART:20171006T200000Z
DTEND:20171007T010000Z
X-MICROSOFT-CDO-ALLDAYEVENT:FALSE
SUMMARY:MDC Goldenrod Benefit Auction
DESCRIPTION:Join MDC Goldenrod in the fun at the Shipshewana Auction Barn for their 17th Annual Benefit Auction.   Live auction   Silent auction   Bake Sale   Amish Haystack Meal Items to be auctioned include quilts\, handmade wood furniture and gift certificates for some of your favorite restaurants and shops. All proceeds from the sale will go toward the MDC Goldenrod mission.
X-ALT-DESC;FMTTYPE=text/html:Join MDC Goldenrod in the fun at the Shipshewana Auction Barn for their 17th Annual Benefit Auction. &middot\; Live auction &middot\; Silent auction &middot\; Bake Sale &middot\; Amish Haystack Meal Items to be auctioned include quilts\, handmade wood furniture and gift certificates for some of your favorite restaurants and shops. All proceeds from the sale will go toward the MDC Goldenrod mission.
LOCATION:Shipshewana Auction Barn
UID:e.689.17006
SEQUENCE:3
DTSTAMP:20260425T005252Z
URL:https://business.goshen.org/events/details/mdc-goldenrod-benefit-auction-17006
END:VEVENT

END:VCALENDAR
