BEGIN:VCALENDAR
VERSION:2.0
PRODID:-//ChamberMaster//Event Calendar 2.0//EN
METHOD:PUBLISH
X-PUBLISHED-TTL:P3D
REFRESH-INTERVAL:P3D
CALSCALE:GREGORIAN
BEGIN:VEVENT
DTSTART:20200919T103000Z
DTEND:20200919T203000Z
X-MICROSOFT-CDO-ALLDAYEVENT:FALSE
SUMMARY:Maple City Walk
DESCRIPTION:The 12th Annual Maple City Walk is scheduled for Saturday\, September 19\, 2020. Participants have their choice between a marathon\, half-marathon and 10K as they enjoy a beautiful walk along the Maple City Greenway and Pumpkinvine Nature Trail. All participants will check in and start their walk at the Clover Hills Building at the Elkhart County Fairgrounds. From there\, they will follow the Maple City Greenway and Pumpkinvine Nature Trail until they reach their respective turnaround point. The marathon route guides walkers all the way to Middlebury and back. This family friendly event is open to all ages. Children under 15 receive free admission\, but still must register for the event.
X-ALT-DESC;FMTTYPE=text/html:The 12th Annual Maple City Walk is scheduled for Saturday\, September 19\, 2020. Participants have their choice between a marathon\, half-marathon and 10K as they enjoy a beautiful walk along the Maple City Greenway and Pumpkinvine Nature Trail. All participants will check in and start their walk at the Clover Hills Building at the Elkhart County Fairgrounds. From there\, they will follow the Maple City Greenway and Pumpkinvine Nature Trail until they reach their respective turnaround point. The marathon route guides walkers all the way to Middlebury and back. This family friendly event is open to all ages. Children under 15 receive free admission\, but still must register for the event.
LOCATION:Elkhart County Fairgrounds (Gate 6) Clover Hills Building 17746 CR 34 Goshen\, IN 46528
UID:e.689.20953
SEQUENCE:3
DTSTAMP:20260422T100830Z
URL:https://business.goshen.org/events/details/maple-city-walk-20953
END:VEVENT

END:VCALENDAR
