BEGIN:VCALENDAR
VERSION:2.0
PRODID:-//ChamberMaster//Event Calendar 2.0//EN
METHOD:PUBLISH
X-PUBLISHED-TTL:P3D
REFRESH-INTERVAL:P3D
CALSCALE:GREGORIAN
BEGIN:VEVENT
DTSTART:20170428T210000Z
DTEND:20170428T230000Z
X-MICROSOFT-CDO-ALLDAYEVENT:FALSE
SUMMARY:Maple City Fest in Celebration of Arbor Day
DESCRIPTION:A free family festival celebrating Arbor Day with a variety of events\, entertainment and music. Activities begin at 5 pm on April 28 and last until about 7 pm. Join us for a spring evening packed full of fun. The event will take place indoors and outdoors at Rieth Interpretive Center\, 410 West Plymouth Avenue. All ages welcome. Evening festivities include:   Food court (food items may be purchased)   Children's activities\, including interactive booths with crafts and hands-on demonstrations and activities   Information booths   Children's choir performance   Special presentations\, including Arbor Day Proclamation\, Good Tree Steward Award\, Tree City USA Award   Children's musical entertainment If inclement weather\, the event will take place indoors at Schrock Pavilion in Shanklin Park.
X-ALT-DESC;FMTTYPE=text/html:A free family festival celebrating Arbor Day with a variety of events\, entertainment and music. Activities begin at 5 pm on April 28 and last until about 7 pm. Join us for a spring evening packed full of fun. The event will take place indoors and outdoors at Rieth Interpretive Center\, 410 West Plymouth Avenue. All ages welcome. Evening festivities include: &bull\; Food court (food items may be purchased) &bull\; Children&rsquo\;s activities\, including interactive booths with crafts and hands-on demonstrations and activities &bull\; Information booths &bull\; Children&rsquo\;s choir performance &bull\; Special presentations\, including Arbor Day Proclamation\, Good Tree Steward Award\, Tree City USA Award &bull\; Children&rsquo\;s musical entertainment If inclement weather\, the event will take place indoors at Schrock Pavilion in Shanklin Park.
LOCATION:Rieth Interpretive Center\, 410 W. Plymouth Avenue in Goshen
UID:e.689.16617
SEQUENCE:3
DTSTAMP:20260425T104441Z
URL:https://business.goshen.org/events/details/maple-city-fest-in-celebration-of-arbor-day-16617
END:VEVENT

END:VCALENDAR
