BEGIN:VCALENDAR
VERSION:2.0
PRODID:-//ChamberMaster//Event Calendar 2.0//EN
METHOD:PUBLISH
X-PUBLISHED-TTL:P3D
REFRESH-INTERVAL:P3D
CALSCALE:GREGORIAN
BEGIN:VEVENT
DTSTART:20160625T160000Z
DTEND:20160625T220000Z
X-MICROSOFT-CDO-ALLDAYEVENT:FALSE
SUMMARY:Maple City Cultural Festival
DESCRIPTION:Sponsored by LaCasa\, Inc \, Deb Myers Jones\, Sylvia Rocio Diaz\, Elias Garcia\, Jose Miguel Chiquito\, and Mark Daniels were inspired to create the Maple City Cultural Festival after attending a Community Leadership Institute Conference in Louisville\, KY. This group is creating this event in hopes that the diverse citizens of Goshen will come together and share their customs and heritages through food\, music\, and fun.
X-ALT-DESC;FMTTYPE=text/html:Sponsored by LaCasa\, Inc \, Deb Myers Jones\, Sylvia Rocio Diaz\, Elias Garcia\, Jose Miguel Chiquito\, and Mark Daniels were inspired to create the Maple City Cultural Festival after attending a Community Leadership Institute Conference in Louisville\, KY. This group is creating this event in hopes that the diverse citizens of Goshen will come together and share their customs and heritages through food\, music\, and fun.
LOCATION:Rogers Park\, Goshen
UID:e.689.15981
SEQUENCE:3
DTSTAMP:20260426T023012Z
URL:https://business.goshen.org/events/details/maple-city-cultural-festival-06-25-2016-15981
END:VEVENT

END:VCALENDAR
