BEGIN:VCALENDAR
VERSION:2.0
PRODID:-//ChamberMaster//Event Calendar 2.0//EN
METHOD:PUBLISH
X-PUBLISHED-TTL:P3D
REFRESH-INTERVAL:P3D
CALSCALE:GREGORIAN
BEGIN:VEVENT
DTSTART:20171018T220000Z
DTEND:20171019T000000Z
X-MICROSOFT-CDO-ALLDAYEVENT:FALSE
SUMMARY:Making Great Places
DESCRIPTION:Place matters. Whether it's where we live\, work or play\, our environment has a profound impact on how we feel and how we invest. But great places don't just happen. They're made by people who care about the future\, have faith their investments will be met with returns\, and want to see their children thrive close to home. Keynote speaker Dr. Katherine Loflin will cover all of the aspects of placemaking\, the why\, the how and the who. Join us\, learn more\, and be inspired to get invovled with Vibrant Communities. Nicknamed the "City Doctor\," Loflin is an internationally award-winning placemaking consultant\, speaker\, and instructor in cities around the world. She is the principal of Loflin Consulting Solutions. She has held advisory and leadership roles in some of the most groundbreaking and innovative placemaking projects. Event is free\, but RSVPs are preferred. Go to www.vibrantelkhartcounty.org/makinggreatplaces to register.
X-ALT-DESC;FMTTYPE=text/html:Place matters. Whether it&rsquo\;s where we live\, work or play\, our environment has a profound impact on how we feel and how we invest. But great places don&rsquo\;t just happen. They&rsquo\;re made by people who care about the future\, have faith their investments will be met with returns\, and want to see their children thrive close to home. Keynote speaker Dr. Katherine Loflin will cover all of the aspects of placemaking\, the why\, the how and the who. Join us\, learn more\, and be inspired to get invovled with Vibrant Communities. Nicknamed the &quot\;City Doctor\,&quot\; Loflin is an internationally award-winning placemaking consultant\, speaker\, and instructor in cities around the world. She is the principal of Loflin Consulting Solutions. She has held advisory and leadership roles in some of the most groundbreaking and innovative placemaking projects. Event is free\, but RSVPs are preferred. Go to www.vibrantelkhartcounty.org/makinggreatplaces to register.
LOCATION:Crystal Ballroom\, 410 S. Main St.\, Elkhart
UID:e.689.17019
SEQUENCE:3
DTSTAMP:20260425T004757Z
URL:https://business.goshen.org/events/details/making-great-places-17019
END:VEVENT

END:VCALENDAR
