BEGIN:VCALENDAR
VERSION:2.0
PRODID:-//ChamberMaster//Event Calendar 2.0//EN
METHOD:PUBLISH
X-PUBLISHED-TTL:P3D
REFRESH-INTERVAL:P3D
CALSCALE:GREGORIAN
BEGIN:VEVENT
DTSTART:20220216T230000Z
DTEND:20220218T020000Z
X-MICROSOFT-CDO-ALLDAYEVENT:FALSE
SUMMARY:Making Colors Pop! Acrylic Painting Workshop
DESCRIPTION:Join us for a painting workshop with local artist Mark Daniels.\n\nWorkshop participants will watch as Mark talks and paints his way through his painting process by painting a small 8" x 8" acrylic on prepared 300lb watercolor paper.\n\n\n\nWe then will apply what Mark displayed by painting our own simple flower. We will try to complete 2 paintings\, one without applying the layering approach\, and one with Mark's teaching\, so we can see the differences each makes.\n\n \n\nAll materials will be provided to use in class.\n\nWorkshop Suited for age 15 and up.\n\n \n\n* This is a 6 hour workshop spread into two evenings from 6pm to 9pm. The sign-up cut off date is February 13th.\n\n \n\nEmail us at shopimaginationspot@gmail.com for any questions.\n\nPlease note: Masks will be required for all participants.
X-ALT-DESC;FMTTYPE=text/html:<p>Join us for a painting workshop with local artist Mark Daniels.</p>\n\n<div>Workshop participants will watch as Mark talks and paints his way through his painting process by painting a small 8&quot\; x 8&quot\; acrylic on prepared 300lb watercolor paper.</div>\n\n<div><br />\nWe then will apply what Mark displayed by painting our own simple flower. We will try to complete 2 paintings\, one without applying the layering approach\, and one with Mark&#39\;s teaching\, so we can see the differences each makes.</div>\n\n<div>&nbsp\;</div>\n\n<div>All materials will be provided to use in class.</div>\n\n<div>Workshop Suited for age 15 and up.</div>\n\n<div>&nbsp\;</div>\n\n<div>* This is a 6 hour workshop spread into two evenings from 6pm to 9pm. The sign-up cut off date is February 13th.</div>\n\n<div>&nbsp\;</div>\n\n<div><span dir="auto"><span dir="auto">Email us at shopimaginationspot@gmail.com for any questions.</span></span></div>\n\n<div><span dir="auto">Please note: Masks will be required for all participants.</span></div>\n
LOCATION:The Imagination Spot 111 E Washington St.\, Goshen IN 46528
UID:e.689.23555
SEQUENCE:3
DTSTAMP:20260423T181256Z
URL:https://business.goshen.org/events/details/making-colors-pop-acrylic-painting-workshop-23555
END:VEVENT

END:VCALENDAR
