BEGIN:VCALENDAR
VERSION:2.0
PRODID:-//ChamberMaster//Event Calendar 2.0//EN
METHOD:PUBLISH
X-PUBLISHED-TTL:P3D
REFRESH-INTERVAL:P3D
CALSCALE:GREGORIAN
BEGIN:VEVENT
DTSTART:20220122T150000Z
DTEND:20220122T180000Z
X-MICROSOFT-CDO-ALLDAYEVENT:FALSE
SUMMARY:Maker's Saturday - DIY Paper Stars
DESCRIPTION:Join us once a month for a walk-in craft making event for all ages! This is an open studio where you get to create your own DIY projects with the theme and materials provided. This is not an instructed workshop but we will have a host available to help you with projects. The themes will be different each month and the cost will depend on the craft option available.\n\n \n\nJANUARY MAKER'S SATURDAY -\n\nJoin us in making cheerful Winter stars out of paper bags! Have fun shaping your star and adding your own unique cut outs to the design.\n\n \n\nDIY Fee - $5 per two paper stars\n\n \n\n*Please note that masks will be required to participate in our craft activities. We will be also limiting how many participants can be in our workshop space at a time.
X-ALT-DESC;FMTTYPE=text/html:<div>Join us once a month for a walk-in craft making event for all ages! This is an open studio where you get to create your own DIY projects with the theme and materials provided. This is not an instructed workshop but we will have a host available to help you with projects. The themes will be different each month and the cost will depend on the craft option available.<br />\n&nbsp\;</div>\n\n<div>JANUARY MAKER&#39\;S SATURDAY -<br />\nJoin us in making cheerful Winter stars out of paper bags! Have fun shaping your star and adding your own unique cut outs to the design.<br />\n&nbsp\;</div>\n\n<div>DIY Fee - $5 per two paper stars<br />\n&nbsp\;</div>\n\n<div>*Please note that masks will be required to participate in our craft activities. We will be also limiting how many participants can be in our workshop space at a time.</div>\n
LOCATION:The Imagination Spot 111 E Washington St. Goshen IN 46528
UID:e.689.23508
SEQUENCE:3
DTSTAMP:20260421T200821Z
URL:https://business.goshen.org/events/details/maker-s-saturday-diy-paper-stars-23508
END:VEVENT

END:VCALENDAR
