BEGIN:VCALENDAR
VERSION:2.0
PRODID:-//ChamberMaster//Event Calendar 2.0//EN
METHOD:PUBLISH
X-PUBLISHED-TTL:P3D
REFRESH-INTERVAL:P3D
CALSCALE:GREGORIAN
BEGIN:VEVENT
DTSTART:20211030T140000Z
DTEND:20211030T170000Z
X-MICROSOFT-CDO-ALLDAYEVENT:FALSE
SUMMARY:Maker's Saturday - DIY Halloween Masks
DESCRIPTION:Join us at The Imagination Spot once a month for a walk-in craft making event for all ages! This is an open studio where you get to create your own DIY projects with the theme and materials provided. This is not an instructed workshop but we will have a host available to help you with projects. The themes will be different each month and the cost will depend on the craft option available.\nOCTOBER MAKER'S SATURDAY -  DIY Colorful Halloween Masks
X-ALT-DESC;FMTTYPE=text/html:Join us at The Imagination Spot once a month for a walk-in craft making event for all ages! This is an open studio where you get to create your own DIY projects with the theme and materials provided. This is not an instructed workshop but we will have a host available to help you with projects. The themes will be different each month and the cost will depend on the craft option available.\n<p><strong>OCTOBER MAKER&#39\;S SATURDAY -&nbsp\;</strong> DIY Colorful Halloween Masks</p>\n
LOCATION:The Imagination Spot\, 111 E Washington St. Goshen IN 46528
UID:e.689.22684
SEQUENCE:3
DTSTAMP:20260421T132137Z
URL:https://business.goshen.org/events/details/maker-s-saturday-diy-halloween-masks-22684
END:VEVENT

END:VCALENDAR
