BEGIN:VCALENDAR
VERSION:2.0
PRODID:-//ChamberMaster//Event Calendar 2.0//EN
METHOD:PUBLISH
X-PUBLISHED-TTL:P3D
REFRESH-INTERVAL:P3D
CALSCALE:GREGORIAN
BEGIN:VEVENT
DTSTART:20210925T140000Z
DTEND:20210925T170000Z
X-MICROSOFT-CDO-ALLDAYEVENT:FALSE
SUMMARY:Maker's Saturday - DIY Card Making
DESCRIPTION:Join us in a walk-in card making event for all ages! Enjoy using stamps\, ink\, markers\, washi tape and more on quality pre-cut cards and envelopes to create personalized cards for the ones you love. Celebrate with us the joy of making\, sending\, and receiving handwritten notes and greeting cards!\n\n\n\nMaker's Saturday is an open studio where you get to create your own DIY projects with the materials and theme provided. This is not an instructed workshop but we will have a host available to help you with projects.\n\n\n\nThe seats for the DIY crafts will be limited to 8 at a time. The tickets can be purchased when you arrive at the shop and you will be given a 30 minute slot to create your craft so others may get a chance to create as well.
X-ALT-DESC;FMTTYPE=text/html:Join us in a walk-in card making event for all ages! Enjoy using stamps\, ink\, markers\, washi tape and more on quality pre-cut cards and envelopes to create personalized cards for the ones you love. Celebrate with us the joy of making\, sending\, and receiving handwritten notes and greeting cards!<br />\n<br />\nMaker&#39\;s Saturday is an open studio where you get to create your own DIY projects with the materials and theme provided. This is not an instructed workshop but we will have a host available to help you with projects.<br />\n<br />\nThe seats for the DIY crafts will be limited to 8 at a time. The tickets can be purchased when you arrive at the shop and you will be given a 30 minute slot to create your craft so others may get a chance to create as well.<br />\n&nbsp\;
LOCATION:The Imagination Spot 111 E Washington St. Goshen\, IN 46528
UID:e.689.22660
SEQUENCE:3
DTSTAMP:20260421T145756Z
URL:https://business.goshen.org/events/details/maker-s-saturday-diy-card-making-22660
END:VEVENT

END:VCALENDAR
