BEGIN:VCALENDAR
VERSION:2.0
PRODID:-//ChamberMaster//Event Calendar 2.0//EN
METHOD:PUBLISH
X-PUBLISHED-TTL:P3D
REFRESH-INTERVAL:P3D
CALSCALE:GREGORIAN
BEGIN:VEVENT
DTSTART:20170112T230000Z
DTEND:20170113T000000Z
X-MICROSOFT-CDO-ALLDAYEVENT:FALSE
SUMMARY:Little Monets Creative Arts Class
DESCRIPTION:Have your children ever painted with their toes\, looked for shapes in the clouds\, or made their own play-dough? We often want our children to grow up so quickly that we forget to encourage them to keep their imagination strong and alive. Around age 5 or 6 is when we really begin to see children's art become more realistic\, so this makes it the ideal time to encourage them with new skills around art and their creativity. In this six-week course\, your child will draw and paint successfully with the right mix of individualized instruction\, encouragement and motivation. We always expect the children to clean up their "creative area" after they're done\; sometimes this takes a bit of time at the end of class. Our hope is that your child will leave each session saying\, "Mommy\, I saw a dolphin in the clouds\," or "Daddy\, it's OK if I only draw a circle\, as long as I make it the best circle ever!" For ages 6-9 years. Class will meet at Rieth Interpretive Center. Cost for the session is $55\, which includes all supplies. Please have your child wear clothes for getting messy! Pre-register at the Park Office (574) 534-2901
X-ALT-DESC;FMTTYPE=text/html:Have your children ever painted with their toes\, looked for shapes in the clouds\, or made their own play-dough? We often want our children to grow up so quickly that we forget to encourage them to keep their imagination strong and alive. Around age 5 or 6 is when we really begin to see children&rsquo\;s art become more realistic\, so this makes it the ideal time to encourage them with new skills around art and their creativity. In this six-week course\, your child will draw and paint successfully with the right mix of individualized instruction\, encouragement and motivation. We always expect the children to clean up their &ldquo\;creative area&rdquo\; after they&rsquo\;re done\; sometimes this takes a bit of time at the end of class. Our hope is that your child will leave each session saying\, &ldquo\;Mommy\, I saw a dolphin in the clouds\,&rdquo\; or &ldquo\;Daddy\, it&rsquo\;s OK if I only draw a circle\, as long as I make it the best circle ever!&rdquo\; For ages 6-9 years. Class will meet at Rieth Interpretive Center. Cost for the session is $55\, which includes all supplies. Please have your child wear clothes for getting messy! Pre-register at the Park Office (574) 534-2901
LOCATION:
UID:e.689.16197
SEQUENCE:3
DTSTAMP:20260425T154317Z
URL:https://business.goshen.org/events/details/little-monets-creative-arts-class-16197
END:VEVENT

END:VCALENDAR
