BEGIN:VCALENDAR
VERSION:2.0
PRODID:-//ChamberMaster//Event Calendar 2.0//EN
METHOD:PUBLISH
X-PUBLISHED-TTL:P3D
REFRESH-INTERVAL:P3D
CALSCALE:GREGORIAN
BEGIN:VEVENT
DTSTART:20190816T220000Z
DTEND:20190817T020000Z
X-MICROSOFT-CDO-ALLDAYEVENT:FALSE
SUMMARY:Line Dancing
DESCRIPTION:Line dancing with DJ Bruce Sholly\, July 5th 6pm-9pm. Join the fun and learn new steps with instructor\, Sandy Floyd! Tickets are $6
X-ALT-DESC;FMTTYPE=text/html:Line dancing with DJ Bruce Sholly\, July 5th 6pm-9pm. Join the fun and learn new steps with instructor\, Sandy Floyd! Tickets are $6
LOCATION:Southgate Crossing 22751 Co. Rd. 26 Elkhart\, IN
UID:e.689.19620
SEQUENCE:3
DTSTAMP:20260423T090535Z
URL:https://business.goshen.org/events/details/line-dancing-08-16-2019-19620
END:VEVENT

END:VCALENDAR
