BEGIN:VCALENDAR
VERSION:2.0
PRODID:-//ChamberMaster//Event Calendar 2.0//EN
METHOD:PUBLISH
X-PUBLISHED-TTL:P3D
REFRESH-INTERVAL:P3D
CALSCALE:GREGORIAN
BEGIN:VEVENT
DTSTART:20180515T180000Z
DTEND:20180524T193000Z
X-MICROSOFT-CDO-ALLDAYEVENT:FALSE
SUMMARY:Lifelong Learning Institute class: A Taste of Personal History
DESCRIPTION:Led by Dawn Szabo. Have you thought about writing your life story but you don't know where to start? Or maybe you've started to write your story\, but your project has stalled. This class takes a theme-based approach to writing stories from your life. In class\, we'll prime your memories through prompts and discussion and offer writing tips that will help you add depth to your stories. Between classes\, you'll write a short story based on the theme presented. This is an interactive class where stories will be read by willing participants. Dawn Szabo worked for a Fortune 100 company prior to starting her own company\, Blue Sky Life Stories\, LLC. She branched out on her own in 2016 to help individuals and families preserve life stories in the form of audio or book memoirs. She is also a certified Guided Autobiography instructor.
X-ALT-DESC;FMTTYPE=text/html:Led by Dawn Szabo. Have you thought about writing your life story but you don&rsquo\;t know where to start? Or maybe you&rsquo\;ve started to write your story\, but your project has stalled. This class takes a theme-based approach to writing stories from your life. In class\, we&rsquo\;ll prime your memories through prompts and discussion and offer writing tips that will help you add depth to your stories. Between classes\, you&rsquo\;ll write a short story based on the theme presented. This is an interactive class where stories will be read by willing participants. Dawn Szabo worked for a Fortune 100 company prior to starting her own company\, Blue Sky Life Stories\, LLC. She branched out on her own in 2016 to help individuals and families preserve life stories in the form of audio or book memoirs. She is also a certified Guided Autobiography instructor.
LOCATION:Greencroft Goshen Community Center Jennings Auditorium\, 1820 Greencroft Blvd.\, Goshen
UID:e.689.17718
SEQUENCE:3
DTSTAMP:20260424T134621Z
URL:https://business.goshen.org/events/details/lifelong-learning-institute-class-a-taste-of-personal-history-17718
END:VEVENT

END:VCALENDAR
