BEGIN:VCALENDAR
VERSION:2.0
PRODID:-//ChamberMaster//Event Calendar 2.0//EN
METHOD:PUBLISH
X-PUBLISHED-TTL:P3D
REFRESH-INTERVAL:P3D
CALSCALE:GREGORIAN
BEGIN:VEVENT
DTSTART:20180501T180000Z
DTEND:20180509T193000Z
X-MICROSOFT-CDO-ALLDAYEVENT:FALSE
SUMMARY:Lifelong Learning class: The Art of Life\, Illness & Death
DESCRIPTION:Led by John Blosser. The very human experience of illness\, death and dying has arguably inspired works of art for ages. We will examine some of the more significant works of literature and visual art that were born of these circumstances. Believing that clarity and hope may be found in the products of healers\, survivors\, and the grieving\, the course will be broad in scope\, interactive in nature and accessible. References and hopefully useful and interesting resources will be made available. As Professor of Art Emeritus from both Goshen and Hesston Colleges\, John was invited to teach a course to nurses enrolled in the Goshen College RN to BSN degree program. Soon a number of friends expressed interest in this material\, and thus this short LLI course was born!
X-ALT-DESC;FMTTYPE=text/html:Led by John Blosser. The very human experience of illness\, death and dying has arguably inspired works of art for ages. We will examine some of the more significant works of literature and visual art that were born of these circumstances. Believing that clarity and hope may be found in the products of healers\, survivors\, and the grieving\, the course will be broad in scope\, interactive in nature and accessible. References and hopefully useful and interesting resources will be made available. As Professor of Art Emeritus from both Goshen and Hesston Colleges\, John was invited to teach a course to nurses enrolled in the Goshen College RN to BSN degree program. Soon a number of friends expressed interest in this material\, and thus this short LLI course was born!
LOCATION:Greencroft Goshen Community Center Jennings Auditorium\, 1820 Greencroft Blvd.\, Goshen
UID:e.689.17717
SEQUENCE:3
DTSTAMP:20260424T134706Z
URL:https://business.goshen.org/events/details/lifelong-learning-class-the-art-of-life-illness-death-17717
END:VEVENT

END:VCALENDAR
