BEGIN:VCALENDAR
VERSION:2.0
PRODID:-//ChamberMaster//Event Calendar 2.0//EN
METHOD:PUBLISH
X-PUBLISHED-TTL:P3D
REFRESH-INTERVAL:P3D
CALSCALE:GREGORIAN
BEGIN:VEVENT
DTSTART:20180402T140000Z
DTEND:20180413T153000Z
X-MICROSOFT-CDO-ALLDAYEVENT:FALSE
SUMMARY:Lifelong Learning class: It Can’t Happen Here: Handmaids\, Farm Animals and the Dystopian Novel
DESCRIPTION:Led by Judith Davis. George Orwell's Animal Farm and Margaret Atwood's A Handmaid's Tale offer two perspectives on political systems and their effects on the individual. In this class\, we will read and discuss these and other novels that present visions of dystopias\, "imaginary places where people lead dehumanized and often fearful lives." Dystopian novels are often called cautionary tales: they depict what life could be under circumstances that are not so different from our own for example\, Sinclair Lewis's It Can't Happen Here. It will be helpful if you read Atwood and Orwell before coming to class\; Ray Bradbury's Fahrenheit 451 is also recommended. Judith Davis is Professor Emerita of French and Humanities\, Goshen College where she served as director of communications\, grant writer and teacher for French\, English and women's studies.
X-ALT-DESC;FMTTYPE=text/html:Led by Judith Davis. George Orwell&rsquo\;s Animal Farm and Margaret Atwood&rsquo\;s A Handmaid&rsquo\;s Tale offer two perspectives on political systems and their effects on the individual. In this class\, we will read and discuss these and other novels that present visions of dystopias\, &ldquo\;imaginary places where people lead dehumanized and often fearful lives.&rdquo\; Dystopian novels are often called cautionary tales: they depict what life could be under circumstances that are not so different from our own&mdash\;for example\, Sinclair Lewis&rsquo\;s It Can&rsquo\;t Happen Here. It will be helpful if you read Atwood and Orwell before coming to class\; Ray Bradbury&rsquo\;s Fahrenheit 451 is also recommended. Judith Davis is Professor Emerita of French and Humanities\, Goshen College where she served as director of communications\, grant writer and teacher for French\, English and women&rsquo\;s studies.
LOCATION:Greencroft Goshen Community Center Jennings Auditorium\, 1820 Greencroft Blvd.\, Goshen
UID:e.689.17715
SEQUENCE:3
DTSTAMP:20260424T153936Z
URL:https://business.goshen.org/events/details/lifelong-learning-class-it-can-t-happen-here-handmaids-farm-animals-and-the-dystopian-novel-17715
END:VEVENT

END:VCALENDAR
