BEGIN:VCALENDAR
VERSION:2.0
PRODID:-//ChamberMaster//Event Calendar 2.0//EN
METHOD:PUBLISH
X-PUBLISHED-TTL:P3D
REFRESH-INTERVAL:P3D
CALSCALE:GREGORIAN
BEGIN:VEVENT
DTSTART:20180418T140000Z
DTEND:20180425T153000Z
X-MICROSOFT-CDO-ALLDAYEVENT:FALSE
SUMMARY:Lifelong Learning class: A Trip Around The World - In A Jennings’ Chair
DESCRIPTION:Led by Phyllis Miller\, Coordinator. Travel around the world through personal stories from folks who have lived and worked in other cultures. The four sessions will be divided by countries: Afghanistan by Bill and Phyllis Miller\; South Africa by Anna and Joe Sawatzky\; Indonesia by Sally Jo and Ron Milne\; and Iran with Ervin Beck and Nasim Rasoulipour (a Goshen College student who is from Iran). Learn about their daily living\, the highs and lows of becoming a part of another culture\, what they brought home with them and what they found here upon reentering. Phyllis Miller taught kindergarten in the Middlebury Schools. She and her husband Bill served with Mennonite Central Committee\, Mennonite Mission Network and Goshen College's SST program. Since retirement they have been involved in Mennonite Disaster Service\, Service Opportunities for Older People.
X-ALT-DESC;FMTTYPE=text/html:Led by Phyllis Miller\, Coordinator. Travel around the world through personal stories from folks who have lived and worked in other cultures. The four sessions will be divided by countries: Afghanistan by Bill and Phyllis Miller\; South Africa by Anna and Joe Sawatzky\; Indonesia by Sally Jo and Ron Milne\; and Iran with Ervin Beck and Nasim Rasoulipour (a Goshen College student who is from Iran). Learn about their daily living\, the highs and lows of becoming a part of another culture\, what they brought home with them and what they found here upon reentering. Phyllis Miller taught kindergarten in the Middlebury Schools. She and her husband Bill served with Mennonite Central Committee\, Mennonite Mission Network and Goshen College&rsquo\;s SST program. Since retirement they have been involved in Mennonite Disaster Service\, Service Opportunities for Older People.
LOCATION:Greencroft Goshen Community Center Jennings Auditorium\, 1820 Greencroft Blvd.\, Goshen
UID:e.689.17716
SEQUENCE:3
DTSTAMP:20260424T153837Z
URL:https://business.goshen.org/events/details/lifelong-learning-class-a-trip-around-the-world-in-a-jennings-chair-17716
END:VEVENT

END:VCALENDAR
