BEGIN:VCALENDAR
VERSION:2.0
PRODID:-//ChamberMaster//Event Calendar 2.0//EN
METHOD:PUBLISH
X-PUBLISHED-TTL:P3D
REFRESH-INTERVAL:P3D
CALSCALE:GREGORIAN
BEGIN:VEVENT
DTSTART:20161107T140000Z
DTEND:20161107T220000Z
X-MICROSOFT-CDO-ALLDAYEVENT:FALSE
SUMMARY:Letters to Santa
DESCRIPTION:Drop your letters to Santa in the North Pole mailbox at the Goshen Public Library from November 7 through December 9\, and Santa and his helpers will make sure you get a return letter sent right to your house. There is no postage necessary- just make sure to include your full mailing address\, and print neatly! The mailbox is located on the second floor of the library.
X-ALT-DESC;FMTTYPE=text/html:Drop your letters to Santa in the North Pole mailbox at the Goshen Public Library from November 7 through December 9\, and Santa and his helpers will make sure you get a return letter sent right to your house. There is no postage necessary- just make sure to include your full mailing address\, and print neatly! The mailbox is located on the second floor of the library.
LOCATION:
UID:e.689.16200
SEQUENCE:3
DTSTAMP:20260425T190138Z
URL:https://business.goshen.org/events/details/letters-to-santa-16200
END:VEVENT

END:VCALENDAR
