BEGIN:VCALENDAR
VERSION:2.0
PRODID:-//ChamberMaster//Event Calendar 2.0//EN
METHOD:PUBLISH
X-PUBLISHED-TTL:P3D
REFRESH-INTERVAL:P3D
CALSCALE:GREGORIAN
BEGIN:VEVENT
DTSTART;VALUE=DATE:20180519
DTEND;VALUE=DATE:20180520
TRANSP:TRANSPARENT
X-MICROSOFT-CDO-ALLDAYEVENT:TRUE
SUMMARY:Lemonade Day 2018
DESCRIPTION:In 2007\, founder Michael Holthouse had a vision to empower today's youth to become tomorrow's entrepreneurs through helping them start\, own and operate their very own business a lemonade stand. Lemonade Day is a strategic 14-step process that walks youth from a dream to a business plan\, while teaching them the same principles required to start any big company. Inspiring kids to work hard and make a profit\, they are also taught to spend some\, save some and share some by giving back to their community. Since it's launch in 2007 in Houston Texas\, Lemonade Day has grown from serving 2\,700 kids in one city to 1 million children across North America. With the help of partners like Google for Entrepreneurs\, Lemonade Day will continue to spark the spirit of entrepreneurship and empower youth to set goals\, work hard\, and achieve their dreams.
X-ALT-DESC;FMTTYPE=text/html:In 2007\, founder Michael Holthouse had a vision to empower today&rsquo\;s youth to become tomorrow&rsquo\;s entrepreneurs through helping them start\, own and operate their very own business&hellip\;a lemonade stand. Lemonade Day is a strategic 14-step process that walks youth from a dream to a business plan\, while teaching them the same principles required to start any big company. Inspiring kids to work hard and make a profit\, they are also taught to spend some\, save some and share some by giving back to their community. Since it&rsquo\;s launch in 2007 in Houston Texas\, Lemonade Day has grown from serving 2\,700 kids in one city to 1 million children across North America. With the help of partners like Google for Entrepreneurs\, Lemonade Day will continue to spark the spirit of entrepreneurship and empower youth to set goals\, work hard\, and achieve their dreams.
LOCATION:All of Elkhart County
UID:e.689.17759
SEQUENCE:3
DTSTAMP:20260424T133750Z
URL:https://business.goshen.org/events/details/lemonade-day-2018-17759
END:VEVENT

END:VCALENDAR
