BEGIN:VCALENDAR
VERSION:2.0
PRODID:-//ChamberMaster//Event Calendar 2.0//EN
METHOD:PUBLISH
X-PUBLISHED-TTL:P3D
REFRESH-INTERVAL:P3D
CALSCALE:GREGORIAN
BEGIN:VEVENT
DTSTART:20180519T120000Z
DTEND:20180519T210000Z
X-MICROSOFT-CDO-ALLDAYEVENT:FALSE
SUMMARY:Lemonade Day
DESCRIPTION:Children K-6 and adult mentors are invited to participate in Elkhart County's Lemonade Day festivities! Children create\, own and operate their own business\, a lemonade stand with the three basic principles of : Spend a Little\, Save a Little\, Share a Little. On Lemonade Day\, support a student & buy lemonade from their stand! Prizes and contests for best business\, best tasting lemonade\, and more!
X-ALT-DESC;FMTTYPE=text/html:Children K-6 and adult mentors are invited to participate in Elkhart County&rsquo\;s Lemonade Day festivities! Children create\, own and operate their own business\, a lemonade stand with the three basic principles of : Spend a Little\, Save a Little\, Share a Little. On Lemonade Day\, support a student &amp\; buy lemonade from their stand! Prizes and contests for best business\, best tasting lemonade\, and more!
LOCATION:Elkhart
UID:e.689.17003
SEQUENCE:3
DTSTAMP:20260424T133831Z
URL:https://business.goshen.org/events/details/lemonade-day-17003
END:VEVENT

END:VCALENDAR
