BEGIN:VCALENDAR
VERSION:2.0
PRODID:-//ChamberMaster//Event Calendar 2.0//EN
METHOD:PUBLISH
X-PUBLISHED-TTL:P3D
REFRESH-INTERVAL:P3D
CALSCALE:GREGORIAN
BEGIN:VEVENT
DTSTART:20211023T130000Z
DTEND:20211023T190000Z
X-MICROSOFT-CDO-ALLDAYEVENT:FALSE
SUMMARY:Legacy Conference with Dr. Gary Chapman
DESCRIPTION:Want to build a stronger marriage? Struggling to find how to connect with and show your love to your spouse and family? Need encouragement and a date night? Join us at Maple City Chapel for our annual Legacy Conference featuring speaker and author\, Dr. Gary Chapman. Gary is an experienced and well-respected family counselor and a well-known author. The 5 Love Languages\, one of Chapman's most popular titles has topped various bestseller charts for years.
X-ALT-DESC;FMTTYPE=text/html:Want to build a stronger marriage? Struggling to find how to connect with and show your love to your spouse and family? Need encouragement and a date night? Join us at Maple City Chapel for our annual Legacy Conference featuring speaker and author\, Dr. Gary Chapman. Gary is an experienced and well-respected family counselor and a well-known author. The 5 Love Languages\, one of Chapman&rsquo\;s most popular titles has topped various bestseller charts for years.
LOCATION:Maple City Chapel 2015 Lincolnway East Goshen\, IN 46526
UID:e.689.22655
SEQUENCE:3
DTSTAMP:20260421T113825Z
URL:https://business.goshen.org/events/details/legacy-conference-with-dr-gary-chapman-22655
END:VEVENT

END:VCALENDAR
