BEGIN:VCALENDAR
VERSION:2.0
PRODID:-//ChamberMaster//Event Calendar 2.0//EN
METHOD:PUBLISH
X-PUBLISHED-TTL:P3D
REFRESH-INTERVAL:P3D
CALSCALE:GREGORIAN
BEGIN:VEVENT
DTSTART:20200129T183000Z
DTEND:20200129T193000Z
X-MICROSOFT-CDO-ALLDAYEVENT:FALSE
SUMMARY:Leading Goshen College: Thoughts from President Stoltzfus
DESCRIPTION:Some say that being a college president is the hardest leadership job around. President Rebecca Stoltzfus\, the 18th president of Goshen College\, will speak about what fuels her passion for leading GC at this time\, along with a few other things that keep her life interesting. Presenter: Rebecca Stolzfus
X-ALT-DESC;FMTTYPE=text/html:Some say that being a college president is the hardest leadership job around. President Rebecca Stoltzfus\, the 18th president of Goshen College\, will speak about what fuels her passion for leading GC at this time\, along with a few other things that keep her life interesting. Presenter: Rebecca Stolzfus
LOCATION:Greencroft Goshen Community Center
UID:e.689.20612
SEQUENCE:3
DTSTAMP:20260423T002405Z
URL:https://business.goshen.org/events/details/leading-goshen-college-thoughts-from-president-stoltzfus-20612
END:VEVENT

END:VCALENDAR
