BEGIN:VCALENDAR
VERSION:2.0
PRODID:-//ChamberMaster//Event Calendar 2.0//EN
METHOD:PUBLISH
X-PUBLISHED-TTL:P3D
REFRESH-INTERVAL:P3D
CALSCALE:GREGORIAN
BEGIN:VEVENT
DTSTART:20181107T160000Z
DTEND:20181107T170000Z
X-MICROSOFT-CDO-ALLDAYEVENT:FALSE
SUMMARY:Latinos Pro-Education - Radio Horizonte 104.3 FM-Ribbon Cutting
DESCRIPTION:1716 Elkhart Road\n\n(In Basement)
X-ALT-DESC;FMTTYPE=text/html:1716 Elkhart Road<br />\n(In Basement)
LOCATION:
UID:e.689.18243
SEQUENCE:3
DTSTAMP:20260424T010219Z
URL:https://business.goshen.org/events/details/latinos-pro-education-radio-horizonte-104-3-fm-ribbon-cutting-18243
END:VEVENT

END:VCALENDAR
