BEGIN:VCALENDAR
VERSION:2.0
PRODID:-//ChamberMaster//Event Calendar 2.0//EN
METHOD:PUBLISH
X-PUBLISHED-TTL:P3D
REFRESH-INTERVAL:P3D
CALSCALE:GREGORIAN
BEGIN:VEVENT
DTSTART:20180609T213000Z
DTEND:20180610T000000Z
X-MICROSOFT-CDO-ALLDAYEVENT:FALSE
SUMMARY:Latino Business Expo
DESCRIPTION:Latino Business Expo\n \n\nA Latino Business Expo\, coordinated by the Center for Healing & Hope\, is scheduled for Saturday\, June 9\, at Everence\, 1110 North Main Street\, Goshen. We believe healthy families create healthy businesses\, so come to discover how we can work together to build a stronger community for all of us. The exhibition is open to everyone beginning at 5:30 pm with opportunities to network with Latino business owners and entrepreneurs. Cosponsors are the Goshen Chamber of Commerce\, Goshen College and Everence. Please register if you plan to attend:  www.CHHclinics.org/Latino-business-expo.
X-ALT-DESC;FMTTYPE=text/html:<div style="text-align: center\;"><span style="font-size:10.0pt\;">Latino Business Expo</span></div>\n&nbsp\;\n\n<div style="text-align: center\;"><span style="font-size:10.0pt\;">A Latino Business Expo\, coordinated by the Center for Healing &amp\; Hope\, is scheduled for Saturday\, June 9\, at Everence\, 1110 North Main Street\, Goshen. We believe healthy families create healthy businesses\, so come to discover how we can work together to build a stronger community for all of us. The exhibition is open to everyone beginning at 5:30 pm with opportunities to network with Latino business owners and entrepreneurs. Cosponsors are the Goshen Chamber of Commerce\, Goshen College and Everence. Please register if you plan to attend: &nbsp\;<a href="http://www.CHHclinics.org/Latino-business-expo"><span style="color:#0563C1\;">www.CHHclinics.org/Latino-business-expo</span></a>. </span></div>\n
LOCATION:Everence\, 1110 North Main St.\, Goshen
UID:e.689.17828
SEQUENCE:3
DTSTAMP:20260424T114931Z
URL:https://business.goshen.org/events/details/latino-business-expo-17828
END:VEVENT

END:VCALENDAR
