BEGIN:VCALENDAR
VERSION:2.0
PRODID:-//ChamberMaster//Event Calendar 2.0//EN
METHOD:PUBLISH
X-PUBLISHED-TTL:P3D
REFRESH-INTERVAL:P3D
CALSCALE:GREGORIAN
BEGIN:VEVENT
DTSTART:20190802T220000Z
DTEND:20190803T013000Z
X-MICROSOFT-CDO-ALLDAYEVENT:FALSE
SUMMARY:Lalo Cura and Los Ortega at First Fridays
DESCRIPTION:Join us on E Washington St. at Cornfest for an amazing double header of local musical talent! 6:00 p.m. Lalo Cura 7:30 p.m. Fashion Show 8:00 p.m. Los Ortega Lalo Cura: Since its formation in 2012 Lalo Cura has become one of the most innovative Spanish Rock bands in the Midwest. Blending the various styles that are representative of each member in the band\, Lalo Cura never stops exploring unknown sonic territories. The band is led by Rafael Ch vez on guitar\; Sam Que on saxophone\, Sonny Carre o on percussion\, Brendyn Cane on drums and Khalin Diggins on bass. Los Ortega: Specializing in a unique blend of traditional Mexican folk music\, Los Ortega is one of the region's most beloved and sought-after bands. Best heard live with a cerveza in hand\, Los Ortega energetic and upbeat music seldom leaves audiences in their seats.
X-ALT-DESC;FMTTYPE=text/html:Join us on E Washington St. at Cornfest for an amazing double header of local musical talent! 6:00 p.m. Lalo Cura 7:30 p.m. Fashion Show 8:00 p.m. Los Ortega Lalo Cura: Since its formation in 2012 Lalo Cura has become one of the most innovative Spanish Rock bands in the Midwest. Blending the various styles that are representative of each member in the band\, Lalo Cura never stops exploring unknown sonic territories. The band is led by Rafael Ch&aacute\;vez on guitar\; Sam Que on saxophone\, Sonny Carre&ntilde\;o on percussion\, Brendyn Cane on drums and Khalin Diggins on bass. Los Ortega: Specializing in a unique blend of traditional Mexican folk music\, Los Ortega is one of the region&rsquo\;s most beloved and sought-after bands. Best heard live with a cerveza in hand\, Los Ortega energetic and upbeat music seldom leaves audiences in their seats.
LOCATION:101 N Main St\, Goshen\, IN 46526
UID:e.689.19957
SEQUENCE:3
DTSTAMP:20260423T091712Z
URL:https://business.goshen.org/events/details/lalo-cura-and-los-ortega-at-first-fridays-19957
END:VEVENT

END:VCALENDAR
