BEGIN:VCALENDAR
VERSION:2.0
PRODID:-//ChamberMaster//Event Calendar 2.0//EN
METHOD:PUBLISH
X-PUBLISHED-TTL:P3D
REFRESH-INTERVAL:P3D
CALSCALE:GREGORIAN
BEGIN:VEVENT
DTSTART:20200318T160000Z
DTEND:20200318T170000Z
X-MICROSOFT-CDO-ALLDAYEVENT:FALSE
SUMMARY:Lacasa Annual Luncheon
DESCRIPTION:Join us for our Annual Luncheon as we celebrate Lacasa\, Inc's 50 years and reflect on where we have been and look ahead to provide strong foundations\, for everyone. Tickets are $40/individual & $320/table of 8 Please RSVP at https://lacasainc.net/rsvp-lunch/.
X-ALT-DESC;FMTTYPE=text/html:Join us for our Annual Luncheon as we celebrate Lacasa\, Inc&rsquo\;s 50 years and reflect on where we have been and look ahead to provide strong foundations\, for everyone. Tickets are $40/individual &amp\; $320/table of 8 Please RSVP at https://lacasainc.net/rsvp-lunch/.
LOCATION:The Lerner Crystal Ballroom
UID:e.689.20942
SEQUENCE:3
DTSTAMP:20260422T204913Z
URL:https://business.goshen.org/events/details/lacasa-annual-luncheon-20942
END:VEVENT

END:VCALENDAR
