BEGIN:VCALENDAR
VERSION:2.0
PRODID:-//ChamberMaster//Event Calendar 2.0//EN
METHOD:PUBLISH
X-PUBLISHED-TTL:P3D
REFRESH-INTERVAL:P3D
CALSCALE:GREGORIAN
BEGIN:VEVENT
DTSTART:20160830T210000Z
DTEND:20160831T000000Z
X-MICROSOFT-CDO-ALLDAYEVENT:FALSE
SUMMARY:Kroozin' USA Car Show - Nostalgia Night
DESCRIPTION:Cruise In and Car Show hosted by Fast Eddie's Kroozin' USA Car Shows. Music\, Games\, Trivia\, Fun!  Dash Plaques\, Door Prizes and Awards - Entry Fee $10.  Judging starts at 7p with Awards at 8p.  Cruise in free.
X-ALT-DESC;FMTTYPE=text/html:Cruise In and Car Show hosted by Fast Eddie's Kroozin' USA Car Shows. Music\, Games\, Trivia\, Fun!&nbsp\; Dash Plaques\, Door Prizes and Awards - Entry Fee $10.&nbsp\; Judging starts at 7p with Awards at 8p.&nbsp\; Cruise in free.
LOCATION:Concord Mall 3701 S. Main Street Elkhart\, IN 46517 574-875-6502
UID:e.689.16005
SEQUENCE:3
DTSTAMP:20260426T004713Z
URL:https://business.goshen.org/events/details/kroozin-usa-car-show-nostalgia-night-08-30-2016-16005
END:VEVENT

END:VCALENDAR
