BEGIN:VCALENDAR
VERSION:2.0
PRODID:-//ChamberMaster//Event Calendar 2.0//EN
METHOD:PUBLISH
X-PUBLISHED-TTL:P3D
REFRESH-INTERVAL:P3D
CALSCALE:GREGORIAN
BEGIN:VEVENT
DTSTART:20180519T130000Z
DTEND:20180519T170000Z
X-MICROSOFT-CDO-ALLDAYEVENT:FALSE
SUMMARY:Knitted Knockers Event
DESCRIPTION:Reverie Yarn\, Decor and Gifts will present a Knitted Knockers event from 9 a.m. to 1 p.m. May 19\, beginning with a continental breakfast at the store\, 201 S. Main St. Knitted Knockers are soft\, comfortable breast prosthetics for women who have had breast surgeries such as mastectomies or lumpectomies\, according to a news release. They are hand-knit or crocheted in multiple sizes.\n\n \n\nA donation from the staff at the Elkhart Clinic\, free cotton yarn will be available to those who attend the event to knit or crochet. Participants can choose their yarn color\, and experts will be on hand to assist with knitting and crocheting. Door prizes and camaraderie will add to the fun. Those who complete a pair of knockers can receive yarn to make more. Patterns and filling will be provided\; needles will be available for purchase\, or attendees can take their own.\n\nFor more information\, contact Reverie at 574-596-1921\, or email info.reverie.goshen@gmail.com.
X-ALT-DESC;FMTTYPE=text/html:<p style="box-sizing: border-box\; margin: 0px 0px 24px\; color: rgb(68\, 68\, 68)\; font-size: 16px\; line-height: 27px\; font-family: &quot\;Helvetica Neue&quot\;\, Helvetica\, Arial\, sans-serif\; background-color: rgb(255\, 255\, 255)\;">Reverie Yarn\, Decor and Gifts will present a Knitted Knockers event from 9 a.m. to 1 p.m. May 19\, beginning with a continental breakfast at the store\, 201 S. Main St. Knitted Knockers are soft\, comfortable breast prosthetics for women who have had breast surgeries such as mastectomies or lumpectomies\, according to a news release. They are hand-knit or crocheted in multiple sizes.</p>\n\n<div class="tncms-region hidden-print" id="tncms-region-article_instory_top" style="box-sizing: border-box\; color: rgb(51\, 51\, 51)\; font-family: &quot\;Helvetica Neue&quot\;\, Helvetica\, Arial\, sans-serif\; font-size: 14px\; background-color: rgb(255\, 255\, 255)\;">&nbsp\;</div>\n\n<p style="box-sizing: border-box\; margin: 0px 0px 24px\; color: rgb(68\, 68\, 68)\; font-size: 16px\; line-height: 27px\; font-family: &quot\;Helvetica Neue&quot\;\, Helvetica\, Arial\, sans-serif\; background-color: rgb(255\, 255\, 255)\;">A donation from the staff at the Elkhart Clinic\, free cotton yarn will be available to those who attend the event to knit or crochet. Participants can choose their yarn color\, and experts will be on hand to assist with knitting and crocheting. Door prizes and camaraderie will add to the fun. Those who complete a pair of knockers can receive yarn to make more. Patterns and filling will be provided\; needles will be available for purchase\, or attendees can take their own.</p>\n\n<p style="box-sizing: border-box\; margin: 0px 0px 24px\; color: rgb(68\, 68\, 68)\; font-size: 16px\; line-height: 27px\; font-family: &quot\;Helvetica Neue&quot\;\, Helvetica\, Arial\, sans-serif\; background-color: rgb(255\, 255\, 255)\;">For more information\, contact Reverie at 574-596-1921\, or email&nbsp\;<a href="mailto:info.reverie.goshen@gmail.com" style="box-sizing: border-box\; background-color: transparent\; color: rgb(25\, 85\, 165)\;">info.reverie.goshen@gmail.com</a>.</p>\n
LOCATION:Reverie Yarn\, Decor and Gifts 201 S. Main Street Goshen\, IN
UID:e.689.17806
SEQUENCE:3
DTSTAMP:20260424T133940Z
URL:https://business.goshen.org/events/details/knitted-knockers-event-17806
END:VEVENT

END:VCALENDAR
