BEGIN:VCALENDAR
VERSION:2.0
PRODID:-//ChamberMaster//Event Calendar 2.0//EN
METHOD:PUBLISH
X-PUBLISHED-TTL:P3D
REFRESH-INTERVAL:P3D
CALSCALE:GREGORIAN
BEGIN:VEVENT
DTSTART:20190713T120000Z
DTEND:20190713T160000Z
X-MICROSOFT-CDO-ALLDAYEVENT:FALSE
SUMMARY:Kids' & Teens' Triathlon
DESCRIPTION:The Goshen Parks & Recreation Department is excited to host the 15th Annual Kids' & Teens' Triathlon! The event is scheduled for Saturday\, July 13 at Shanklin Park. Participants ages 5-18 are welcome to compete in this professionally chip timed race. All racers receive a finisher medal upon crossing the finish line as an award for their achievement and the top three finishers of each girls and boys age divisions are awarded a trophy. Participants can register online by clicking the Kids Triathlon page here (https://bit.ly/2Ewnmc2) or in person at the Park Office located at 524 E. Jackson St. For additional details\, please contact our office at 574-534-2901 or visit the event website at www.goshenkidsandteenstriathlon.com.
X-ALT-DESC;FMTTYPE=text/html:The Goshen Parks &amp\; Recreation Department is excited to host the 15th Annual Kids&rsquo\; &amp\; Teens&rsquo\; Triathlon! The event is scheduled for Saturday\, July 13 at Shanklin Park. Participants ages 5-18 are welcome to compete in this professionally chip timed race. All racers receive a finisher medal upon crossing the finish line as an award for their achievement and the top three finishers of each girls and boys age divisions are awarded a trophy. Participants can register online by clicking the Kids Triathlon page here (https://bit.ly/2Ewnmc2) or in person at the Park Office located at 524 E. Jackson St. For additional details\, please contact our office at 574-534-2901 or visit the event website at www.goshenkidsandteenstriathlon.com.
LOCATION:Shanklin Park 411 W. Plymouth Ave. Goshen\, IN 46526
UID:e.689.19198
SEQUENCE:3
DTSTAMP:20260423T105653Z
URL:https://business.goshen.org/events/details/kids-teens-triathlon-19198
END:VEVENT

END:VCALENDAR
