BEGIN:VCALENDAR
VERSION:2.0
PRODID:-//ChamberMaster//Event Calendar 2.0//EN
METHOD:PUBLISH
X-PUBLISHED-TTL:P3D
REFRESH-INTERVAL:P3D
CALSCALE:GREGORIAN
BEGIN:VEVENT
DTSTART:20170225T180000Z
DTEND:20170225T190000Z
X-MICROSOFT-CDO-ALLDAYEVENT:FALSE
SUMMARY:KALITA\, Master of Magic
DESCRIPTION:KALITA has been performing magic for 40 years and he will amaze and dazzle young and old alike! Animals may appear and then disappear\, or perhaps a volunteer will stick their arm in the Arm Chopper. KALITA uses volunteers from the audience. So who knows\, maybe you'll be his next victim or rather volunteer? KALITA's daughter helps him throughout the show and if time allows the children are encouraged to pet the Magic Bunny.
X-ALT-DESC;FMTTYPE=text/html:KALITA has been performing magic for 40 years and he will amaze and dazzle young and old alike! Animals may appear and then disappear\, or perhaps a volunteer will stick their arm in the Arm Chopper. KALITA uses volunteers from the audience. So who knows\, maybe you&#39\;ll be his next victim or rather volunteer? KALITA&#39\;s daughter helps him throughout the show and if time allows the children are encouraged to pet the Magic Bunny.
LOCATION:Concord Mall 3701 S. Main Street Elkhart\, IN 46517 574-875-6502
UID:e.689.16606
SEQUENCE:3
DTSTAMP:20260425T140913Z
URL:https://business.goshen.org/events/details/kalita-master-of-magic-02-25-2017-16606
END:VEVENT

END:VCALENDAR
