BEGIN:VCALENDAR
VERSION:2.0
PRODID:-//ChamberMaster//Event Calendar 2.0//EN
METHOD:PUBLISH
X-PUBLISHED-TTL:P3D
REFRESH-INTERVAL:P3D
CALSCALE:GREGORIAN
BEGIN:VEVENT
DTSTART:20200115T183000Z
DTEND:20200115T193000Z
X-MICROSOFT-CDO-ALLDAYEVENT:FALSE
SUMMARY:Just wondering: how does God work in our lives?
DESCRIPTION:After a small tornado damaged a nearby school\, a friend of mine said he thought God had spared Greencroft from major damage with a kind of protective shield. I wondered about that does God really select the location of natural disasters? Does God bring good or bad events in our lives? There are many Bible stories that indicate divine action but also human freedom to choose. Despite these questions\, I've experienced two events in my family in which I believe God was at work. Both involve loss and blessing. I'll share these stories and invite audience members to contribute their own experiences. Presenter: David Janzen
X-ALT-DESC;FMTTYPE=text/html:After a small tornado damaged a nearby school\, a friend of mine said he thought God had spared Greencroft from major damage with a kind of protective shield. I wondered about that&hellip\;does God really select the location of natural disasters? Does God bring good or bad events in our lives? There are many Bible stories that indicate divine action but also human freedom to choose. Despite these questions\, I&rsquo\;ve experienced two events in my family in which I believe God was at work. Both involve loss and blessing. I&rsquo\;ll share these stories and invite audience members to contribute their own experiences. Presenter: David Janzen
LOCATION:Greencroft Goshen Community Center
UID:e.689.20610
SEQUENCE:3
DTSTAMP:20260423T001107Z
URL:https://business.goshen.org/events/details/just-wondering-how-does-god-work-in-our-lives-20610
END:VEVENT

END:VCALENDAR
