BEGIN:VCALENDAR
VERSION:2.0
PRODID:-//ChamberMaster//Event Calendar 2.0//EN
METHOD:PUBLISH
X-PUBLISHED-TTL:P3D
REFRESH-INTERVAL:P3D
CALSCALE:GREGORIAN
BEGIN:VEVENT
DTSTART:20171013T230000Z
DTEND:20171014T010000Z
X-MICROSOFT-CDO-ALLDAYEVENT:FALSE
SUMMARY:Junior Achievement & Lemonade Day presents" Best Seat in the House" @ GHS
DESCRIPTION:How would you like to cheer on the Red Hawks kicked back in an easy chair\, enjoying a fresh hot pizza? Well now you can when you and one friend win "the best seat in the house!" Purchase 3 tickets for $5 for you chance at being the winner of the best seat in the house for the second half of the game\, presented by Junior Achievement & Lemonade Day of Elkhart County! With Junior Achievement in the classroom\, Goshen students are given the skills to own their own financial future through work readiness\, entrepreneurship and financial literacy. Benefiting Goshen High School Athletics and Junior Achievement in classrooms in Goshen Community Schools.
X-ALT-DESC;FMTTYPE=text/html:How would you like to cheer on the Red Hawks kicked back in an easy chair\, enjoying a fresh hot pizza? Well now you can when you and one friend win &ldquo\;the best seat in the house!&rdquo\; Purchase 3 tickets for $5 for you chance at being the winner of the best seat in the house for the second half of the game\, presented by Junior Achievement &amp\; Lemonade Day of Elkhart County! With Junior Achievement in the classroom\, Goshen students are given the skills to own their own financial future through work readiness\, entrepreneurship and financial literacy. Benefiting Goshen High School Athletics and Junior Achievement in classrooms in Goshen Community Schools.
LOCATION:Goshen High School
UID:e.689.17022
SEQUENCE:3
DTSTAMP:20260425T005516Z
URL:https://business.goshen.org/events/details/junior-achievement-lemonade-day-presents-best-seat-in-the-house-ghs-17022
END:VEVENT

END:VCALENDAR
